Workbook

Sheet Fluxo e Duração do Passivo
A1: FLUXO ATUARIAL - CIVIL - PLANO FINANCEIRO - BENEFÍCIOS AVALIADOS EM REGIME FINANCEIRO DE REPARTIÇÃO SIMPLES
A2: INFORMAÇÕES PRELIMINARES | F2: CONTRIBUIÇÕESES FUTURAS DE APOSENTADOS E PENSIONISTAS - BENEFÍCIOS CONCEDIDOS | M2: CONTRIBUIÇÕES FUTURAS DO ENTE - BENEFÍCIOS A CONCEDER | U2: CONTRIBUIÇÕES FUTURAS DOS ATIVOS - BENEFÍCIOS A CONCEDER | AC2: CONTRIB. FUT. APOSENTADOS - BENEF. A CONCEDER | AH2: CONTRIB. FUT. PENSIONISTAS - BENEF. A CONCEDER | AN2: OUTRAS RECEITAS - BENEF. A CONCEDER | AR2: TOTAL | AS2: ENCARGOS - BENEFÍCIOS CONCEDIDOS | AZ2: ENCARGOS - BENEFÍCIOS A CONCEDER | BJ2: TOTAL | BK2: RESULTADOS | BP2: CÁLCULO DURATION
A3: 100101 | B3: 100201 | C3: 100301 | D3: 100401 | E3: 109001 | F3: 111000 | G3: 111101 | H3: 111201 | I3: 111301 | J3: 111401 | K3: 112000 | L3: 119900 | M3: 121000 | N3: 121100 | O3: 121200 | P3: 121300 | Q3: 121400 | R3: 121500 | S3: 121600 | T3: 121700 | U3: 122000 | V3: 122100 | W3: 122200 | X3: 122300 | Y3: 122400 | Z3: 122500 | AA3: 122600 | AB3: 122700 | AC3: 123000 | AD3: 123100 | AE3: 123200 | AF3: 123300 | AG3: 123400 | AH3: 124000 | AI3: 124100 | AJ3: 124200 | AK3: 124300 | AL3: 124400 | AM3: 124500 | AN3: 129000 | AO3: 130101 | AP3: 130201 | AQ3: 139901 | AR3: 190000 | AS3: 210000 | AT3: 211001 | AU3: 212001 | AV3: 213001 | AW3: 214001 | AX3: 215001 | AY3: 219901 | AZ3: 220000 | BA3: 221000 | BB3: 222000 | BC3: 223000 | BD3: 224000 | BE3: 225000 | BF3: 226000 | BG3: 227000 | BH3: 229000 | BI3: 239901 | BJ3: 240000 | BK3: 250001 | BL3: 260001 | BM3: 270001 | BN3: 280001 | BO3: 290001 | BP3: 310000 | BQ3: 320000
A4: Instante | B4: Ano | C4: Taxa de Juros (%) | D4: Fator de Desconto | E4: Base de Cálculo da Contribuição Normal | F4: Benefícios Concedidos - Contribuições dos Aposentados | G4: Benefícios Concedidos - Contribuições Futuras dos Aposentados - Aposentadorias Programadas | H4: Benefícios Concedidos - Contribuições Futuras dos Aposentados - Aposentadorias Especiais de Professores | I4: Benefícios Concedidos - Contribuições Futuras dos Aposentados - Outras Aposentadorias Especiais | J4: Benefícios Concedidos - Contribuições Futuras dos Aposentados - Aposentadorias por Invalidez | K4: Benefícios Concedidos - Contribuições dos Pensionistas | L4: Benefícios Concedidos - Compensação Previdenciária a Receber | M4: Benefícios a Conceder - Contribuições do Ente | N4: Benefícios a Conceder - Contribuições Futuras do Ente - Aposentadorias Programadas | O4: Benefícios a Conceder - Contribuições Futuras do Ente - Aposentadorias Especiais de Professores | P4: Benefícios a Conceder - Contribuições Futuras do Ente - Outras Aposentadorias Especiais | Q4: Benefí­cios a Conceder - Contribuições Futuras do Ente - Aposentadorias por Invalidez | R4: Benefícios a Conceder - Contribuições Futuras do Ente - Pensões Por Morte de Servidores em Atividade | S4: Benefícios a Conceder - Contribuições Futuras do Ente - Pensões Por Morte de Aposentados | T4: Benefícios a Conceder - Contribuições Futuras do Ente - Outros Benefícios e Auxílios | U4: Benefícios a Conceder - Contribuições dos Segurados Ativos | V4: Benefícios a Conceder - Contribuições Futuras dos Segurados Ativos - Aposentadorias Programadas | W4: Benefícios a Conceder - Contribuições Futuras dos Segurados Ativos - Aposentadorias Especiais de Professores | X4: Benefícios a Conceder - Contribuições Futuras dos Segurados Ativos - Outras Aposentadorias Especiais | Y4: Benefícios a Conceder - Contribuições Futuras dos Segurados Ativos - Aposentadorias por Invalidez | Z4: Benefícios a Conceder - Contribuições Futuras dos Segurados Ativos - Pensões Por Morte de Segurados em Atividade | AA4: Benefícios a Conceder - Contribuições Futuras dos Segurados Ativos - Pensões Por Morte de Aposentados | AB4: Benefí­cios a Conceder - Contribuições Futuras dos Segurados Ativos - Outros Benefícios e Auxílios | AC4: Benefícios a Conceder - Contribuições dos Aposentados | AD4: Benefícios a Conceder - Contribuições Futuras dos Aposentados - Aposentadorias Programadas | AE4: Benefícios a Conceder - Contribuições Futuras dos Aposentados - Aposentadorias Especiais de Professores | AF4: Benefícios a Conceder - Contribuições Futuras dos Aposentados - Outras Aposentadorias Especiais | AG4: Benefícios a Conceder - Contribuições Futuras dos Aposentados - Aposentadorias por Invalidez | AH4: Benefícios a Conceder - Contribuições dos Pensionistas | AI4: Benefícios a Conceder - Contribuições Futuras dos Pensionistas - Aposentadorias Programadas | AJ4: Benefícios a Conceder - Contribuições Futuras dos Pensionistas - Aposentadorias Especiais de Professores | AK4: Benefícios a Conceder - Contribuições Futuras dos Pensionistas - Outras Aposentadorias Especiais | AL4: Benefí­cios a Conceder - Contribuições Futuras dos Pensionistas - Aposentadorias por Invalidez | AM4: Benefícios a Conceder - Contribuições Futuras dos Pensionistas - Pensões Por Morte de Segurados em Atividade | AN4: Benefícios a Conceder - Compensação Previdenciária a Receber | AO4: Plano de Amortização do Déficit Atuarial estabelecido em Lei | AP4: Parcelamentos de Débitos Previdenciários | AQ4: Valor Atual da Cobertura da Insuficiência Financeira (Outras Receitas) | AR4: (A) TOTAL DAS RECEITAS COM CONTRIBUIÇÕES E COMPENSAÇÃO PREVIDENCIÁRIA | AS4: Benefícios Concedidos - Encargos | AT4: Benefícios Concedidos - Encargos - Aposentadorias Programadas | AU4: Benefícios Concedidos - Encargos - Aposentadorias Especiais de Professores | AV4: Benefícios Concedidos - Encargos - Outras Aposentadorias Especiais | AW4: Benefícios Concedidos - Encargos - Aposentadorias por Invalidez | AX4: Benefícios Concedidos - Encargos - Pensões Por Morte | AY4: Benefícios Concedidos - Encargos - Compensação Previdenciária a Pagar | AZ4: Benefícios a Conceder - Encargos | BA4: Benefícios a Conceder - Encargos - Aposentadorias Programadas | BB4: Benefícios a Conceder - Encargos - Aposentadorias Especiais de Professores | BC4: Benefícios a Conceder - Encargos - Outras Aposentadorias Especiais | BD4: Benefícios a Conceder - Encargos - Aposentadorias por Invalidez | BE4: Benefícios a Conceder - Encargos - Pensões Por Morte de Servidores em Atividade | BF4: Benefícios a Conceder - Encargos - Pensões Por Morte de Aposentados | BG4: Benefícios a Conceder - Encargos - Outros Benefícios e Auxílios | BH4: Benefícios a Conceder - Encargos - Compensação Previdenciária a Pagar | BI4: Outras Despesas | BJ4: (B) TOTAL DAS DESPESAS COM BENEFÍCIOS DO PLANO | BK4: (C) INSUFICIÊNCIA OU EXCEDENTE FINANCEIRO (A-B) | BL4: (D) SALDO ACUMULADO DO EXERCÍCIO A VALOR ATUAL | BM4: (E) RENTABILIDADE ESPERADA (%) | BN4: (F) Rentabilidade (dos Ativos que compõem os Recursos Garantidores) | BO4: (G) EVOLUÇÃO DOS RECURSOS GARANTIDORES (Informar o valor acumulado na data da avaliação) | BP4: ( H ) BENEFÍCIOS LÍQUIDOS A VALOR PRESENTE | BQ4: ( I ) BENEFÍCIOS LÍQUIDOS PONDERADOS PELO INSTANTE
BO5: 1.8011722e+08
A6: 1 | B6: 2024 | C6: 2 | D6: =ROUND(IF(A6=0,1,(1+C6/100)^-1),5) -> 0.98039 | E6: 1.4794237e+09 | F6: =ROUND(SUM(G6:J6),5) -> 53104044 | G6: 53104044 | H6: 0 | I6: 0 | J6: 0 | K6: 0 | L6: 0 | M6: =ROUND(SUM(N6:T6),5) -> 4.1423864e+08 | N6: 4.1423864e+08 | O6: 0 | P6: 0 | Q6: 0 | R6: 0 | S6: 0 | T6: 0 | U6: =ROUND(SUM(V6:AB6),5) -> 2.0711932e+08 | V6: 2.0711932e+08 | W6: 0 | X6: 0 | Y6: 0 | Z6: 0 | AA6: 0 | AB6: 0 | AC6: =ROUND(SUM(AD6:AG6),5) -> 19257239 | AD6: 19257239 | AE6: 0 | AF6: 0 | AG6: 0 | AH6: =ROUND(SUM(AI6:AM6),5) -> 0 | AI6: 0 | AJ6: 0 | AK6: 0 | AL6: 0 | AM6: 0 | AN6: 16123393 | AO6: 0 | AP6: 0 | AQ6: 0 | AR6: =ROUND(F6+K6+L6+M6+U6+AC6+AH6+AN6+AO6+AP6+AQ6,5) -> 7.0984264e+08 | AS6: =ROUND(SUM(AT6:AY6),5) -> 2.2103372e+09 | AT6: 1.8425566e+09 | AU6: 0 | AV6: 0 | AW6: 0 | AX6: 3.6778057e+08 | AY6: 0 | AZ6: =ROUND(SUM(BA6:BI6),5) -> 3.9509371e+08 | BA6: 3.7272621e+08 | BB6: 0 | BC6: 0 | BD6: 0 | BE6: 7573259.3 | BF6: 0 | BG6: 0 | BH6: 0 | BI6: 14794237 | BJ6: =ROUND(AS6+AZ6,5) -> 2.6054309e+09 | BK6: =ROUND(AR6-BJ6,5) -> -1.8955883e+09 | BL6: =BO5+SUMPRODUCT($D6,$BK6) -> -1.6782985e+09 | BM6: =((1+(AR6/E6)/(1+C6))-1)/100 -> 0.0015993674 | BN6: 0 | BO6: =IF(BO5+BK6+BN6>0,ROUND(BO5+BK6+BN6,5),0) -> 0 | BP6: =(1/((1+$C6/100)^($A6-0.5)))*(AS6+AZ6-AY6-BH6-F6-AC6-AH6) -> 2.5081127e+09 | BQ6: =$BP6*($A6-0.5) -> 1.2540563e+09
A7: 2 | B7: 2025 | C7: 2 | D7: =ROUND((1+C7/100)^-1*D6,5) -> 0.96117 | E7: 1.4434681e+09 | F7: =ROUND(SUM(G7:J7),5) -> 51487222 | G7: 51487222 | H7: 0 | I7: 0 | J7: 0 | K7: 0 | L7: 0 | M7: =ROUND(SUM(N7:T7),5) -> 4.0417108e+08 | N7: 4.0417108e+08 | O7: 0 | P7: 0 | Q7: 0 | R7: 0 | S7: 0 | T7: 0 | U7: =ROUND(SUM(V7:AB7),5) -> 2.0208554e+08 | V7: 2.0208554e+08 | W7: 0 | X7: 0 | Y7: 0 | Z7: 0 | AA7: 0 | AB7: 0 | AC7: =ROUND(SUM(AD7:AG7),5) -> 21593490 | AD7: 21593490 | AE7: 0 | AF7: 0 | AG7: 0 | AH7: =ROUND(SUM(AI7:AM7),5) -> 0 | AI7: 0 | AJ7: 0 | AK7: 0 | AL7: 0 | AM7: 0 | AN7: 20594795 | AO7: 0 | AP7: 0 | AQ7: 0 | AR7: =ROUND(F7+K7+L7+M7+U7+AC7+AH7+AN7+AO7+AP7+AQ7,5) -> 6.9993212e+08 | AS7: =ROUND(SUM(AT7:AY7),5) -> 2.1673271e+09 | AT7: 1.8017058e+09 | AU7: 0 | AV7: 0 | AW7: 0 | AX7: 3.6562134e+08 | AY7: 0 | AZ7: =ROUND(SUM(BA7:BI7),5) -> 4.5642279e+08 | BA7: 4.3015347e+08 | BB7: 0 | BC7: 0 | BD7: 0 | BE7: 11834644 | BF7: 0 | BG7: 0 | BH7: 0 | BI7: 14434681 | BJ7: =ROUND(AS7+AZ7,5) -> 2.6237499e+09 | BK7: =ROUND(AR7-BJ7,5) -> -1.9238178e+09 | BL7: =BO6+SUMPRODUCT($D7,$BK7) -> -1.8491159e+09 | BM7: =((1+(AR7/E7)/(1+C7))-1)/100 -> 0.0016163205 | BN7: 0 | BO7: =IF(BO6+BK7+BN7>0,ROUND(BO6+BK7+BN7,5),0) -> 0 | BP7: =(1/((1+$C7/100)^($A7-0.5)))*(AS7+AZ7-AY7-BH7-F7-AC7-AH7) -> 2.4760185e+09 | BQ7: =$BP7*($A7-0.5) -> 3.7140277e+09
A8: 3 | B8: 2026 | C8: 2 | D8: =ROUND((1+C8/100)^-1*D7,5) -> 0.94232 | E8: 1.4074772e+09 | F8: =ROUND(SUM(G8:J8),5) -> 49840204 | G8: 49840204 | H8: 0 | I8: 0 | J8: 0 | K8: 0 | L8: 0 | M8: =ROUND(SUM(N8:T8),5) -> 3.9409363e+08 | N8: 3.9409363e+08 | O8: 0 | P8: 0 | Q8: 0 | R8: 0 | S8: 0 | T8: 0 | U8: =ROUND(SUM(V8:AB8),5) -> 1.9704681e+08 | V8: 1.9704681e+08 | W8: 0 | X8: 0 | Y8: 0 | Z8: 0 | AA8: 0 | AB8: 0 | AC8: =ROUND(SUM(AD8:AG8),5) -> 23735194 | AD8: 23735194 | AE8: 0 | AF8: 0 | AG8: 0 | AH8: =ROUND(SUM(AI8:AM8),5) -> 0 | AI8: 0 | AJ8: 0 | AK8: 0 | AL8: 0 | AM8: 0 | AN8: 24980275 | AO8: 0 | AP8: 0 | AQ8: 0 | AR8: =ROUND(F8+K8+L8+M8+U8+AC8+AH8+AN8+AO8+AP8+AQ8,5) -> 6.8969611e+08 | AS8: =ROUND(SUM(AT8:AY8),5) -> 2.1216625e+09 | AT8: 1.759059e+09 | AU8: 0 | AV8: 0 | AW8: 0 | AX8: 3.6260352e+08 | AY8: 0 | AZ8: =ROUND(SUM(BA8:BI8),5) -> 5.1397576e+08 | BA8: 4.8347883e+08 | BB8: 0 | BC8: 0 | BD8: 0 | BE8: 16422157 | BF8: 0 | BG8: 0 | BH8: 0 | BI8: 14074772 | BJ8: =ROUND(AS8+AZ8,5) -> 2.6356383e+09 | BK8: =ROUND(AR8-BJ8,5) -> -1.9459421e+09 | BL8: =BO7+SUMPRODUCT($D8,$BK8) -> -1.8337002e+09 | BM8: =((1+(AR8/E8)/(1+C8))-1)/100 -> 0.0016334098 | BN8: 0 | BO8: =IF(BO7+BK8+BN8>0,ROUND(BO7+BK8+BN8,5),0) -> 0 | BP8: =(1/((1+$C8/100)^($A8-0.5)))*(AS8+AZ8-AY8-BH8-F8-AC8-AH8) -> 2.4383124e+09 | BQ8: =$BP8*($A8-0.5) -> 6.0957811e+09
A9: 4 | B9: 2027 | C9: 2 | D9: =ROUND((1+C9/100)^-1*D8,5) -> 0.92384 | E9: 1.3724676e+09 | F9: =ROUND(SUM(G9:J9),5) -> 48152483 | G9: 48152483 | H9: 0 | I9: 0 | J9: 0 | K9: 0 | L9: 0 | M9: =ROUND(SUM(N9:T9),5) -> 3.8429092e+08 | N9: 3.8429092e+08 | O9: 0 | P9: 0 | Q9: 0 | R9: 0 | S9: 0 | T9: 0 | U9: =ROUND(SUM(V9:AB9),5) -> 1.9214546e+08 | V9: 1.9214546e+08 | W9: 0 | X9: 0 | Y9: 0 | Z9: 0 | AA9: 0 | AB9: 0 | AC9: =ROUND(SUM(AD9:AG9),5) -> 25721466 | AD9: 25721466 | AE9: 0 | AF9: 0 | AG9: 0 | AH9: =ROUND(SUM(AI9:AM9),5) -> 0 | AI9: 0 | AJ9: 0 | AK9: 0 | AL9: 0 | AM9: 0 | AN9: 28956701 | AO9: 0 | AP9: 0 | AQ9: 0 | AR9: =ROUND(F9+K9+L9+M9+U9+AC9+AH9+AN9+AO9+AP9+AQ9,5) -> 6.7926703e+08 | AS9: =ROUND(SUM(AT9:AY9),5) -> 2.0733523e+09 | AT9: 1.7145936e+09 | AU9: 0 | AV9: 0 | AW9: 0 | AX9: 3.5875878e+08 | AY9: 0 | AZ9: =ROUND(SUM(BA9:BI9),5) -> 5.687187e+08 | BA9: 5.3362865e+08 | BB9: 0 | BC9: 0 | BD9: 0 | BE9: 21365381 | BF9: 0 | BG9: 0 | BH9: 0 | BI9: 13724676 | BJ9: =ROUND(AS9+AZ9,5) -> 2.642071e+09 | BK9: =ROUND(AR9-BJ9,5) -> -1.962804e+09 | BL9: =BO8+SUMPRODUCT($D9,$BK9) -> -1.8133169e+09 | BM9: =((1+(AR9/E9)/(1+C9))-1)/100 -> 0.0016497464 | BN9: 0 | BO9: =IF(BO8+BK9+BN9>0,ROUND(BO8+BK9+BN9,5),0) -> 0 | BP9: =(1/((1+$C9/100)^($A9-0.5)))*(AS9+AZ9-AY9-BH9-F9-AC9-AH9) -> 2.3962259e+09 | BQ9: =$BP9*($A9-0.5) -> 8.3867905e+09
A10: 5 | B10: 2028 | C10: 2 | D10: =ROUND((1+C10/100)^-1*D9,5) -> 0.90573 | E10: 1.3453402e+09 | F10: =ROUND(SUM(G10:J10),5) -> 46443195 | G10: 46443195 | H10: 0 | I10: 0 | J10: 0 | K10: 0 | L10: 0 | M10: =ROUND(SUM(N10:T10),5) -> 3.7669525e+08 | N10: 3.7669525e+08 | O10: 0 | P10: 0 | Q10: 0 | R10: 0 | S10: 0 | T10: 0 | U10: =ROUND(SUM(V10:AB10),5) -> 1.8834762e+08 | V10: 1.8834762e+08 | W10: 0 | X10: 0 | Y10: 0 | Z10: 0 | AA10: 0 | AB10: 0 | AC10: =ROUND(SUM(AD10:AG10),5) -> 27610298 | AD10: 27610298 | AE10: 0 | AF10: 0 | AG10: 0 | AH10: =ROUND(SUM(AI10:AM10),5) -> 0 | AI10: 0 | AJ10: 0 | AK10: 0 | AL10: 0 | AM10: 0 | AN10: 31764654 | AO10: 0 | AP10: 0 | AQ10: 0 | AR10: =ROUND(F10+K10+L10+M10+U10+AC10+AH10+AN10+AO10+AP10+AQ10,5) -> 6.7086102e+08 | AS10: =ROUND(SUM(AT10:AY10),5) -> 2.0215211e+09 | AT10: 1.668301e+09 | AU10: 0 | AV10: 0 | AW10: 0 | AX10: 3.5322001e+08 | AY10: 0 | AZ10: =ROUND(SUM(BA10:BI10),5) -> 6.1677581e+08 | BA10: 5.7672655e+08 | BB10: 0 | BC10: 0 | BD10: 0 | BE10: 26595857 | BF10: 0 | BG10: 0 | BH10: 0 | BI10: 13453402 | BJ10: =ROUND(AS10+AZ10,5) -> 2.6382969e+09 | BK10: =ROUND(AR10-BJ10,5) -> -1.9674359e+09 | BL10: =BO9+SUMPRODUCT($D10,$BK10) -> -1.7819657e+09 | BM10: =((1+(AR10/E10)/(1+C10))-1)/100 -> 0.0016621844 | BN10: 0 | BO10: =IF(BO9+BK10+BN10>0,ROUND(BO9+BK10+BN10,5),0) -> 0 | BP10: =(1/((1+$C10/100)^($A10-0.5)))*(AS10+AZ10-AY10-BH10-F10-AC10-AH10) -> 2.3456244e+09 | BQ10: =$BP10*($A10-0.5) -> 1.055531e+10
A11: 6 | B11: 2029 | C11: 2 | D11: =ROUND((1+C11/100)^-1*D10,5) -> 0.88797 | E11: 1.2783569e+09 | F11: =ROUND(SUM(G11:J11),5) -> 44726501 | G11: 44726501 | H11: 0 | I11: 0 | J11: 0 | K11: 0 | L11: 0 | M11: =ROUND(SUM(N11:T11),5) -> 3.5793994e+08 | N11: 3.5793994e+08 | O11: 0 | P11: 0 | Q11: 0 | R11: 0 | S11: 0 | T11: 0 | U11: =ROUND(SUM(V11:AB11),5) -> 1.7896997e+08 | V11: 1.7896997e+08 | W11: 0 | X11: 0 | Y11: 0 | Z11: 0 | AA11: 0 | AB11: 0 | AC11: =ROUND(SUM(AD11:AG11),5) -> 31945396 | AD11: 31945396 | AE11: 0 | AF11: 0 | AG11: 0 | AH11: =ROUND(SUM(AI11:AM11),5) -> 0 | AI11: 0 | AJ11: 0 | AK11: 0 | AL11: 0 | AM11: 0 | AN11: 37814396 | AO11: 0 | AP11: 0 | AQ11: 0 | AR11: =ROUND(F11+K11+L11+M11+U11+AC11+AH11+AN11+AO11+AP11+AQ11,5) -> 6.513962e+08 | AS11: =ROUND(SUM(AT11:AY11),5) -> 1.9680473e+09 | AT11: 1.620186e+09 | AU11: 0 | AV11: 0 | AW11: 0 | AX11: 3.4786131e+08 | AY11: 0 | AZ11: =ROUND(SUM(BA11:BI11),5) -> 6.9647545e+08 | BA11: 6.5152196e+08 | BB11: 0 | BC11: 0 | BD11: 0 | BE11: 32169921 | BF11: 0 | BG11: 0 | BH11: 0 | BI11: 12783569 | BJ11: =ROUND(AS11+AZ11,5) -> 2.6645227e+09 | BK11: =ROUND(AR11-BJ11,5) -> -2.0131265e+09 | BL11: =BO10+SUMPRODUCT($D11,$BK11) -> -1.787596e+09 | BM11: =((1+(AR11/E11)/(1+C11))-1)/100 -> 0.0016985246 | BN11: 0 | BO11: =IF(BO10+BK11+BN11>0,ROUND(BO10+BK11+BN11,5),0) -> 0 | BP11: =(1/((1+$C11/100)^($A11-0.5)))*(AS11+AZ11-AY11-BH11-F11-AC11-AH11) -> 2.3208031e+09 | BQ11: =$BP11*($A11-0.5) -> 1.2764417e+10
A12: 7 | B12: 2030 | C12: 2 | D12: =ROUND((1+C12/100)^-1*D11,5) -> 0.87056 | E12: 1.2288328e+09 | F12: =ROUND(SUM(G12:J12),5) -> 42975465 | G12: 42975465 | H12: 0 | I12: 0 | J12: 0 | K12: 0 | L12: 0 | M12: =ROUND(SUM(N12:T12),5) -> 3.4407318e+08 | N12: 3.4407318e+08 | O12: 0 | P12: 0 | Q12: 0 | R12: 0 | S12: 0 | T12: 0 | U12: =ROUND(SUM(V12:AB12),5) -> 1.7203659e+08 | V12: 1.7203659e+08 | W12: 0 | X12: 0 | Y12: 0 | Z12: 0 | AA12: 0 | AB12: 0 | AC12: =ROUND(SUM(AD12:AG12),5) -> 33520137 | AD12: 33520137 | AE12: 0 | AF12: 0 | AG12: 0 | AH12: =ROUND(SUM(AI12:AM12),5) -> 0 | AI12: 0 | AJ12: 0 | AK12: 0 | AL12: 0 | AM12: 0 | AN12: 40499263 | AO12: 0 | AP12: 0 | AQ12: 0 | AR12: =ROUND(F12+K12+L12+M12+U12+AC12+AH12+AN12+AO12+AP12+AQ12,5) -> 6.3310463e+08 | AS12: =ROUND(SUM(AT12:AY12),5) -> 1.9121475e+09 | AT12: 1.5702605e+09 | AU12: 0 | AV12: 0 | AW12: 0 | AX12: 3.4188708e+08 | AY12: 0 | AZ12: =ROUND(SUM(BA12:BI12),5) -> 7.5484986e+08 | BA12: 7.0440971e+08 | BB12: 0 | BC12: 0 | BD12: 0 | BE12: 38151821 | BF12: 0 | BG12: 0 | BH12: 0 | BI12: 12288328 | BJ12: =ROUND(AS12+AZ12,5) -> 2.6669974e+09 | BK12: =ROUND(AR12-BJ12,5) -> -2.0338928e+09 | BL12: =BO11+SUMPRODUCT($D12,$BK12) -> -1.7706257e+09 | BM12: =((1+(AR12/E12)/(1+C12))-1)/100 -> 0.0017173604 | BN12: 0 | BO12: =IF(BO11+BK12+BN12>0,ROUND(BO11+BK12+BN12,5),0) -> 0 | BP12: =(1/((1+$C12/100)^($A12-0.5)))*(AS12+AZ12-AY12-BH12-F12-AC12-AH12) -> 2.2776279e+09 | BQ12: =$BP12*($A12-0.5) -> 1.4804582e+10
A13: 8 | B13: 2031 | C13: 2 | D13: =ROUND((1+C13/100)^-1*D12,5) -> 0.85349 | E13: 1.2061579e+09 | F13: =ROUND(SUM(G13:J13),5) -> 41185969 | G13: 41185969 | H13: 0 | I13: 0 | J13: 0 | K13: 0 | L13: 0 | M13: =ROUND(SUM(N13:T13),5) -> 3.3772421e+08 | N13: 3.3772421e+08 | O13: 0 | P13: 0 | Q13: 0 | R13: 0 | S13: 0 | T13: 0 | U13: =ROUND(SUM(V13:AB13),5) -> 1.6886211e+08 | V13: 1.6886211e+08 | W13: 0 | X13: 0 | Y13: 0 | Z13: 0 | AA13: 0 | AB13: 0 | AC13: =ROUND(SUM(AD13:AG13),5) -> 34350233 | AD13: 34350233 | AE13: 0 | AF13: 0 | AG13: 0 | AH13: =ROUND(SUM(AI13:AM13),5) -> 0 | AI13: 0 | AJ13: 0 | AK13: 0 | AL13: 0 | AM13: 0 | AN13: 42714612 | AO13: 0 | AP13: 0 | AQ13: 0 | AR13: =ROUND(F13+K13+L13+M13+U13+AC13+AH13+AN13+AO13+AP13+AQ13,5) -> 6.2483713e+08 | AS13: =ROUND(SUM(AT13:AY13),5) -> 1.8538254e+09 | AT13: 1.518568e+09 | AU13: 0 | AV13: 0 | AW13: 0 | AX13: 3.352574e+08 | AY13: 0 | AZ13: =ROUND(SUM(BA13:BI13),5) -> 7.8949833e+08 | BA13: 7.3297938e+08 | BB13: 0 | BC13: 0 | BD13: 0 | BE13: 44457371 | BF13: 0 | BG13: 0 | BH13: 0 | BI13: 12061579 | BJ13: =ROUND(AS13+AZ13,5) -> 2.6433237e+09 | BK13: =ROUND(AR13-BJ13,5) -> -2.0184866e+09 | BL13: =BO12+SUMPRODUCT($D13,$BK13) -> -1.7227581e+09 | BM13: =((1+(AR13/E13)/(1+C13))-1)/100 -> 0.0017267975 | BN13: 0 | BO13: =IF(BO12+BK13+BN13>0,ROUND(BO12+BK13+BN13,5),0) -> 0 | BP13: =(1/((1+$C13/100)^($A13-0.5)))*(AS13+AZ13-AY13-BH13-F13-AC13-AH13) -> 2.2133893e+09 | BQ13: =$BP13*($A13-0.5) -> 1.6600419e+10
A14: 9 | B14: 2032 | C14: 2 | D14: =ROUND((1+C14/100)^-1*D13,5) -> 0.83675 | E14: 1.1784184e+09 | F14: =ROUND(SUM(G14:J14),5) -> 39408686 | G14: 39408686 | H14: 0 | I14: 0 | J14: 0 | K14: 0 | L14: 0 | M14: =ROUND(SUM(N14:T14),5) -> 3.2995714e+08 | N14: 3.2995714e+08 | O14: 0 | P14: 0 | Q14: 0 | R14: 0 | S14: 0 | T14: 0 | U14: =ROUND(SUM(V14:AB14),5) -> 1.6497857e+08 | V14: 1.6497857e+08 | W14: 0 | X14: 0 | Y14: 0 | Z14: 0 | AA14: 0 | AB14: 0 | AC14: =ROUND(SUM(AD14:AG14),5) -> 35620461 | AD14: 35620461 | AE14: 0 | AF14: 0 | AG14: 0 | AH14: =ROUND(SUM(AI14:AM14),5) -> 0 | AI14: 0 | AJ14: 0 | AK14: 0 | AL14: 0 | AM14: 0 | AN14: 44099441 | AO14: 0 | AP14: 0 | AQ14: 0 | AR14: =ROUND(F14+K14+L14+M14+U14+AC14+AH14+AN14+AO14+AP14+AQ14,5) -> 6.140643e+08 | AS14: =ROUND(SUM(AT14:AY14),5) -> 1.7936224e+09 | AT14: 1.465168e+09 | AU14: 0 | AV14: 0 | AW14: 0 | AX14: 3.2845437e+08 | AY14: 0 | AZ14: =ROUND(SUM(BA14:BI14),5) -> 8.2628126e+08 | BA14: 7.6349581e+08 | BB14: 0 | BC14: 0 | BD14: 0 | BE14: 51001261 | BF14: 0 | BG14: 0 | BH14: 0 | BI14: 11784184 | BJ14: =ROUND(AS14+AZ14,5) -> 2.6199036e+09 | BK14: =ROUND(AR14-BJ14,5) -> -2.0058393e+09 | BL14: =BO13+SUMPRODUCT($D14,$BK14) -> -1.6783861e+09 | BM14: =((1+(AR14/E14)/(1+C14))-1)/100 -> 0.0017369731 | BN14: 0 | BO14: =IF(BO13+BK14+BN14>0,ROUND(BO13+BK14+BN14,5),0) -> 0 | BP14: =(1/((1+$C14/100)^($A14-0.5)))*(AS14+AZ14-AY14-BH14-F14-AC14-AH14) -> 2.1506261e+09 | BQ14: =$BP14*($A14-0.5) -> 1.8280322e+10
A15: 10 | B15: 2033 | C15: 2 | D15: =ROUND((1+C15/100)^-1*D14,5) -> 0.82034 | E15: 1.1154333e+09 | F15: =ROUND(SUM(G15:J15),5) -> 37588052 | G15: 37588052 | H15: 0 | I15: 0 | J15: 0 | K15: 0 | L15: 0 | M15: =ROUND(SUM(N15:T15),5) -> 3.1232133e+08 | N15: 3.1232133e+08 | O15: 0 | P15: 0 | Q15: 0 | R15: 0 | S15: 0 | T15: 0 | U15: =ROUND(SUM(V15:AB15),5) -> 1.5616066e+08 | V15: 1.5616066e+08 | W15: 0 | X15: 0 | Y15: 0 | Z15: 0 | AA15: 0 | AB15: 0 | AC15: =ROUND(SUM(AD15:AG15),5) -> 37427119 | AD15: 37427119 | AE15: 0 | AF15: 0 | AG15: 0 | AH15: =ROUND(SUM(AI15:AM15),5) -> 0 | AI15: 0 | AJ15: 0 | AK15: 0 | AL15: 0 | AM15: 0 | AN15: 47987492 | AO15: 0 | AP15: 0 | AQ15: 0 | AR15: =ROUND(F15+K15+L15+M15+U15+AC15+AH15+AN15+AO15+AP15+AQ15,5) -> 5.9148465e+08 | AS15: =ROUND(SUM(AT15:AY15),5) -> 1.7309602e+09 | AT15: 1.4101444e+09 | AU15: 0 | AV15: 0 | AW15: 0 | AX15: 3.2081571e+08 | AY15: 0 | AZ15: =ROUND(SUM(BA15:BI15),5) -> 8.9172061e+08 | BA15: 8.2258072e+08 | BB15: 0 | BC15: 0 | BD15: 0 | BE15: 57985549 | BF15: 0 | BG15: 0 | BH15: 0 | BI15: 11154333 | BJ15: =ROUND(AS15+AZ15,5) -> 2.6226808e+09 | BK15: =ROUND(AR15-BJ15,5) -> -2.0311961e+09 | BL15: =BO14+SUMPRODUCT($D15,$BK15) -> -1.6662714e+09 | BM15: =((1+(AR15/E15)/(1+C15))-1)/100 -> 0.0017675781 | BN15: 0 | BO15: =IF(BO14+BK15+BN15>0,ROUND(BO14+BK15+BN15,5),0) -> 0 | BP15: =(1/((1+$C15/100)^($A15-0.5)))*(AS15+AZ15-AY15-BH15-F15-AC15-AH15) -> 2.1107694e+09 | BQ15: =$BP15*($A15-0.5) -> 2.0052309e+10
A16: 11 | B16: 2034 | C16: 2 | D16: =ROUND((1+C16/100)^-1*D15,5) -> 0.80425 | E16: 1.0594253e+09 | F16: =ROUND(SUM(G16:J16),5) -> 35748332 | G16: 35748332 | H16: 0 | I16: 0 | J16: 0 | K16: 0 | L16: 0 | M16: =ROUND(SUM(N16:T16),5) -> 2.966391e+08 | N16: 2.966391e+08 | O16: 0 | P16: 0 | Q16: 0 | R16: 0 | S16: 0 | T16: 0 | U16: =ROUND(SUM(V16:AB16),5) -> 1.4831955e+08 | V16: 1.4831955e+08 | W16: 0 | X16: 0 | Y16: 0 | Z16: 0 | AA16: 0 | AB16: 0 | AC16: =ROUND(SUM(AD16:AG16),5) -> 38297426 | AD16: 38297426 | AE16: 0 | AF16: 0 | AG16: 0 | AH16: =ROUND(SUM(AI16:AM16),5) -> 0 | AI16: 0 | AJ16: 0 | AK16: 0 | AL16: 0 | AM16: 0 | AN16: 54584153 | AO16: 0 | AP16: 0 | AQ16: 0 | AR16: =ROUND(F16+K16+L16+M16+U16+AC16+AH16+AN16+AO16+AP16+AQ16,5) -> 5.7358855e+08 | AS16: =ROUND(SUM(AT16:AY16),5) -> 1.6663512e+09 | AT16: 1.3535857e+09 | AU16: 0 | AV16: 0 | AW16: 0 | AX16: 3.1276556e+08 | AY16: 0 | AZ16: =ROUND(SUM(BA16:BI16),5) -> 9.453438e+08 | BA16: 8.6960581e+08 | BB16: 0 | BC16: 0 | BD16: 0 | BE16: 65143736 | BF16: 0 | BG16: 0 | BH16: 0 | BI16: 10594253 | BJ16: =ROUND(AS16+AZ16,5) -> 2.611695e+09 | BK16: =ROUND(AR16-BJ16,5) -> -2.0381065e+09 | BL16: =BO15+SUMPRODUCT($D16,$BK16) -> -1.6391471e+09 | BM16: =((1+(AR16/E16)/(1+C16))-1)/100 -> 0.001804716 | BN16: 0 | BO16: =IF(BO15+BK16+BN16>0,ROUND(BO15+BK16+BN16,5),0) -> 0 | BP16: =(1/((1+$C16/100)^($A16-0.5)))*(AS16+AZ16-AY16-BH16-F16-AC16-AH16) -> 2.0612458e+09 | BQ16: =$BP16*($A16-0.5) -> 2.1643081e+10
A17: 12 | B17: 2035 | C17: 2 | D17: =ROUND((1+C17/100)^-1*D16,5) -> 0.78848 | E17: 1.0032955e+09 | F17: =ROUND(SUM(G17:J17),5) -> 33947199 | G17: 33947199 | H17: 0 | I17: 0 | J17: 0 | K17: 0 | L17: 0 | M17: =ROUND(SUM(N17:T17),5) -> 2.8092273e+08 | N17: 2.8092273e+08 | O17: 0 | P17: 0 | Q17: 0 | R17: 0 | S17: 0 | T17: 0 | U17: =ROUND(SUM(V17:AB17),5) -> 1.4046136e+08 | V17: 1.4046136e+08 | W17: 0 | X17: 0 | Y17: 0 | Z17: 0 | AA17: 0 | AB17: 0 | AC17: =ROUND(SUM(AD17:AG17),5) -> 39038993 | AD17: 39038993 | AE17: 0 | AF17: 0 | AG17: 0 | AH17: =ROUND(SUM(AI17:AM17),5) -> 0 | AI17: 0 | AJ17: 0 | AK17: 0 | AL17: 0 | AM17: 0 | AN17: 58474576 | AO17: 0 | AP17: 0 | AQ17: 0 | AR17: =ROUND(F17+K17+L17+M17+U17+AC17+AH17+AN17+AO17+AP17+AQ17,5) -> 5.5284486e+08 | AS17: =ROUND(SUM(AT17:AY17),5) -> 1.6001491e+09 | AT17: 1.295621e+09 | AU17: 0 | AV17: 0 | AW17: 0 | AX17: 3.0452813e+08 | AY17: 0 | AZ17: =ROUND(SUM(BA17:BI17),5) -> 9.9484773e+08 | BA17: 9.1198254e+08 | BB17: 0 | BC17: 0 | BD17: 0 | BE17: 72832238 | BF17: 0 | BG17: 0 | BH17: 0 | BI17: 10032955 | BJ17: =ROUND(AS17+AZ17,5) -> 2.5949968e+09 | BK17: =ROUND(AR17-BJ17,5) -> -2.042152e+09 | BL17: =BO16+SUMPRODUCT($D17,$BK17) -> -1.610196e+09 | BM17: =((1+(AR17/E17)/(1+C17))-1)/100 -> 0.0018367632 | BN17: 0 | BO17: =IF(BO16+BK17+BN17>0,ROUND(BO16+BK17+BN17,5),0) -> 0 | BP17: =(1/((1+$C17/100)^($A17-0.5)))*(AS17+AZ17-AY17-BH17-F17-AC17-AH17) -> 2.0083756e+09 | BQ17: =$BP17*($A17-0.5) -> 2.3096319e+10
A18: 13 | B18: 2036 | C18: 2 | D18: =ROUND((1+C18/100)^-1*D17,5) -> 0.77302 | E18: 9.415992e+08 | F18: =ROUND(SUM(G18:J18),5) -> 32141398 | G18: 32141398 | H18: 0 | I18: 0 | J18: 0 | K18: 0 | L18: 0 | M18: =ROUND(SUM(N18:T18),5) -> 2.6364778e+08 | N18: 2.6364778e+08 | O18: 0 | P18: 0 | Q18: 0 | R18: 0 | S18: 0 | T18: 0 | U18: =ROUND(SUM(V18:AB18),5) -> 1.3182389e+08 | V18: 1.3182389e+08 | W18: 0 | X18: 0 | Y18: 0 | Z18: 0 | AA18: 0 | AB18: 0 | AC18: =ROUND(SUM(AD18:AG18),5) -> 39904693 | AD18: 39904693 | AE18: 0 | AF18: 0 | AG18: 0 | AH18: =ROUND(SUM(AI18:AM18),5) -> 0 | AI18: 0 | AJ18: 0 | AK18: 0 | AL18: 0 | AM18: 0 | AN18: 61011559 | AO18: 0 | AP18: 0 | AQ18: 0 | AR18: =ROUND(F18+K18+L18+M18+U18+AC18+AH18+AN18+AO18+AP18+AQ18,5) -> 5.2852931e+08 | AS18: =ROUND(SUM(AT18:AY18),5) -> 1.5319696e+09 | AT18: 1.2363867e+09 | AU18: 0 | AV18: 0 | AW18: 0 | AX18: 2.955829e+08 | AY18: 0 | AZ18: =ROUND(SUM(BA18:BI18),5) -> 1.0440746e+09 | BA18: 9.5401896e+08 | BB18: 0 | BC18: 0 | BD18: 0 | BE18: 80639636 | BF18: 0 | BG18: 0 | BH18: 0 | BI18: 9415992 | BJ18: =ROUND(AS18+AZ18,5) -> 2.5760442e+09 | BK18: =ROUND(AR18-BJ18,5) -> -2.0475149e+09 | BL18: =BO17+SUMPRODUCT($D18,$BK18) -> -1.58277e+09 | BM18: =((1+(AR18/E18)/(1+C18))-1)/100 -> 0.0018710343 | BN18: 0 | BO18: =IF(BO17+BK18+BN18>0,ROUND(BO17+BK18+BN18,5),0) -> 0 | BP18: =(1/((1+$C18/100)^($A18-0.5)))*(AS18+AZ18-AY18-BH18-F18-AC18-AH18) -> 1.9549329e+09 | BQ18: =$BP18*($A18-0.5) -> 2.4436661e+10
... A41: 36 | B41: 2059 | C41: 2 | D41: =ROUND((1+C41/100)^-1*D40,5) -> 0.49023 | E41: 608230.12 | F41: =ROUND(SUM(G41:J41),5) -> 2654975.8 | G41: 2654975.8 | H41: 0 | I41: 0 | J41: 0 | K41: 0 | L41: 0 | M41: =ROUND(SUM(N41:T41),5) -> 170304.44 | N41: 170304.44 | O41: 0 | P41: 0 | Q41: 0 | R41: 0 | S41: 0 | T41: 0 | U41: =ROUND(SUM(V41:AB41),5) -> 85152.219 | V41: 85152.219 | W41: 0 | X41: 0 | Y41: 0 | Z41: 0 | AA41: 0 | AB41: 0 | AC41: =ROUND(SUM(AD41:AG41),5) -> 21947942 | AD41: 21947942 | AE41: 0 | AF41: 0 | AG41: 0 | AH41: =ROUND(SUM(AI41:AM41),5) -> 0 | AI41: 0 | AJ41: 0 | AK41: 0 | AL41: 0 | AM41: 0 | AN41: 46854001 | AO41: 0 | AP41: 0 | AQ41: 0 | AR41: =ROUND(F41+K41+L41+M41+U41+AC41+AH41+AN41+AO41+AP41+AQ41,5) -> 71712375 | AS41: =ROUND(SUM(AT41:AY41),5) -> 1.5095192e+08 | AT41: 1.0000496e+08 | AU41: 0 | AV41: 0 | AW41: 0 | AX41: 50946962 | AY41: 0 | AZ41: =ROUND(SUM(BA41:BI41),5) -> 1.0589504e+09 | BA41: 8.5942111e+08 | BB41: 0 | BC41: 0 | BD41: 0 | BE41: 1.9952325e+08 | BF41: 0 | BG41: 0 | BH41: 0 | BI41: 6082.3012 | BJ41: =ROUND(AS41+AZ41,5) -> 1.2099024e+09 | BK41: =ROUND(AR41-BJ41,5) -> -1.13819e+09 | BL41: =BO40+SUMPRODUCT($D41,$BK41) -> -5.5797488e+08 | BM41: =((1+(AR41/E41)/(1+C41))-1)/100 -> 0.3930112 | BN41: 0 | BO41: =IF(BO40+BK41+BN41>0,ROUND(BO40+BK41+BN41,5),0) -> 0 | BP41: =(1/((1+$C41/100)^($A41-0.5)))*(AS41+AZ41-AY41-BH41-F41-AC41-AH41) -> 5.8684307e+08 | BQ41: =$BP41*($A41-0.5) -> 2.0832929e+10
A42: 37 | B42: 2060 | C42: 2 | D42: =ROUND((1+C42/100)^-1*D41,5) -> 0.48062 | E42: 368452.14 | F42: =ROUND(SUM(G42:J42),5) -> 2225841.6 | G42: 2225841.6 | H42: 0 | I42: 0 | J42: 0 | K42: 0 | L42: 0 | M42: =ROUND(SUM(N42:T42),5) -> 103166.6 | N42: 103166.6 | O42: 0 | P42: 0 | Q42: 0 | R42: 0 | S42: 0 | T42: 0 | U42: =ROUND(SUM(V42:AB42),5) -> 51583.298 | V42: 51583.298 | W42: 0 | X42: 0 | Y42: 0 | Z42: 0 | AA42: 0 | AB42: 0 | AC42: =ROUND(SUM(AD42:AG42),5) -> 20224741 | AD42: 20224741 | AE42: 0 | AF42: 0 | AG42: 0 | AH42: =ROUND(SUM(AI42:AM42),5) -> 0 | AI42: 0 | AJ42: 0 | AK42: 0 | AL42: 0 | AM42: 0 | AN42: 44159757 | AO42: 0 | AP42: 0 | AQ42: 0 | AR42: =ROUND(F42+K42+L42+M42+U42+AC42+AH42+AN42+AO42+AP42+AQ42,5) -> 66765089 | AS42: =ROUND(SUM(AT42:AY42),5) -> 1.2577106e+08 | AT42: 81077151 | AU42: 0 | AV42: 0 | AW42: 0 | AX42: 44693911 | AY42: 0 | AZ42: =ROUND(SUM(BA42:BI42),5) -> 1.0058601e+09 | BA42: 8.0998163e+08 | BB42: 0 | BC42: 0 | BD42: 0 | BE42: 1.9587474e+08 | BF42: 0 | BG42: 0 | BH42: 0 | BI42: 3684.5214 | BJ42: =ROUND(AS42+AZ42,5) -> 1.1316311e+09 | BK42: =ROUND(AR42-BJ42,5) -> -1.064866e+09 | BL42: =BO41+SUMPRODUCT($D42,$BK42) -> -5.1179591e+08 | BM42: 0 | BN42: 0 | BO42: =IF(BO41+BK42+BN42>0,ROUND(BO41+BK42+BN42,5),0) -> 0 | BP42: =(1/((1+$C42/100)^($A42-0.5)))*(AS42+AZ42-AY42-BH42-F42-AC42-AH42) -> 5.3838874e+08 | BQ42: =$BP42*($A42-0.5) -> 1.9651189e+10
A43: 38 | B43: 2061 | C43: 2 | D43: =ROUND((1+C43/100)^-1*D42,5) -> 0.4712 | E43: 208698.42 | F43: =ROUND(SUM(G43:J43),5) -> 1857654.8 | G43: 1857654.8 | H43: 0 | I43: 0 | J43: 0 | K43: 0 | L43: 0 | M43: =ROUND(SUM(N43:T43),5) -> 58435.557 | N43: 58435.557 | O43: 0 | P43: 0 | Q43: 0 | R43: 0 | S43: 0 | T43: 0 | U43: =ROUND(SUM(V43:AB43),5) -> 29217.778 | V43: 29217.778 | W43: 0 | X43: 0 | Y43: 0 | Z43: 0 | AA43: 0 | AB43: 0 | AC43: =ROUND(SUM(AD43:AG43),5) -> 18549414 | AD43: 18549414 | AE43: 0 | AF43: 0 | AG43: 0 | AH43: =ROUND(SUM(AI43:AM43),5) -> 0 | AI43: 0 | AJ43: 0 | AK43: 0 | AL43: 0 | AM43: 0 | AN43: 41448586 | AO43: 0 | AP43: 0 | AQ43: 0 | AR43: =ROUND(F43+K43+L43+M43+U43+AC43+AH43+AN43+AO43+AP43+AQ43,5) -> 61943309 | AS43: =ROUND(SUM(AT43:AY43),5) -> 1.0398074e+08 | AT43: 64890135 | AU43: 0 | AV43: 0 | AW43: 0 | AX43: 39090601 | AY43: 0 | AZ43: =ROUND(SUM(BA43:BI43),5) -> 9.5236399e+08 | BA43: 7.6089862e+08 | BB43: 0 | BC43: 0 | BD43: 0 | BE43: 1.9146328e+08 | BF43: 0 | BG43: 0 | BH43: 0 | BI43: 2086.9842 | BJ43: =ROUND(AS43+AZ43,5) -> 1.0563447e+09 | BK43: =ROUND(AR43-BJ43,5) -> -9.9440142e+08 | BL43: =BO42+SUMPRODUCT($D43,$BK43) -> -4.6856195e+08 | BM43: 0 | BN43: 0 | BO43: =IF(BO42+BK43+BN43>0,ROUND(BO42+BK43+BN43,5),0) -> 0 | BP43: =(1/((1+$C43/100)^($A43-0.5)))*(AS43+AZ43-AY43-BH43-F43-AC43-AH43) -> 4.9297759e+08 | BQ43: =$BP43*($A43-0.5) -> 1.848666e+10
A44: 39 | B44: 2062 | C44: 2 | D44: =ROUND((1+C44/100)^-1*D43,5) -> 0.46196 | E44: 83299.62 | F44: =ROUND(SUM(G44:J44),5) -> 1544683.8 | G44: 1544683.8 | H44: 0 | I44: 0 | J44: 0 | K44: 0 | L44: 0 | M44: =ROUND(SUM(N44:T44),5) -> 23323.894 | N44: 23323.894 | O44: 0 | P44: 0 | Q44: 0 | R44: 0 | S44: 0 | T44: 0 | U44: =ROUND(SUM(V44:AB44),5) -> 11661.947 | V44: 11661.947 | W44: 0 | X44: 0 | Y44: 0 | Z44: 0 | AA44: 0 | AB44: 0 | AC44: =ROUND(SUM(AD44:AG44),5) -> 16931632 | AD44: 16931632 | AE44: 0 | AF44: 0 | AG44: 0 | AH44: =ROUND(SUM(AI44:AM44),5) -> 0 | AI44: 0 | AJ44: 0 | AK44: 0 | AL44: 0 | AM44: 0 | AN44: 38738227 | AO44: 0 | AP44: 0 | AQ44: 0 | AR44: =ROUND(F44+K44+L44+M44+U44+AC44+AH44+AN44+AO44+AP44+AQ44,5) -> 57249529 | AS44: =ROUND(SUM(AT44:AY44),5) -> 85337451 | AT44: 51232287 | AU44: 0 | AV44: 0 | AW44: 0 | AX44: 34105164 | AY44: 0 | AZ44: =ROUND(SUM(BA44:BI44),5) -> 8.9874954e+08 | BA44: 7.1238993e+08 | BB44: 0 | BC44: 0 | BD44: 0 | BE44: 1.8635877e+08 | BF44: 0 | BG44: 0 | BH44: 0 | BI44: 832.9962 | BJ44: =ROUND(AS44+AZ44,5) -> 9.8408699e+08 | BK44: =ROUND(AR44-BJ44,5) -> -9.2683746e+08 | BL44: =BO43+SUMPRODUCT($D44,$BK44) -> -4.2816183e+08 | BM44: 0 | BN44: 0 | BO44: =IF(BO43+BK44+BN44>0,ROUND(BO43+BK44+BN44,5),0) -> 0 | BP44: =(1/((1+$C44/100)^($A44-0.5)))*(AS44+AZ44-AY44-BH44-F44-AC44-AH44) -> 4.5050067e+08 | BQ44: =$BP44*($A44-0.5) -> 1.7344276e+10
A45: 40 | B45: 2063 | C45: 2 | D45: =ROUND((1+C45/100)^-1*D44,5) -> 0.4529 | E45: 42477.313 | F45: =ROUND(SUM(G45:J45),5) -> 1281017.2 | G45: 1281017.2 | H45: 0 | I45: 0 | J45: 0 | K45: 0 | L45: 0 | M45: =ROUND(SUM(N45:T45),5) -> 11893.648 | N45: 11893.648 | O45: 0 | P45: 0 | Q45: 0 | R45: 0 | S45: 0 | T45: 0 | U45: =ROUND(SUM(V45:AB45),5) -> 5946.8239 | V45: 5946.8239 | W45: 0 | X45: 0 | Y45: 0 | Z45: 0 | AA45: 0 | AB45: 0 | AC45: =ROUND(SUM(AD45:AG45),5) -> 15378479 | AD45: 15378479 | AE45: 0 | AF45: 0 | AG45: 0 | AH45: =ROUND(SUM(AI45:AM45),5) -> 0 | AI45: 0 | AJ45: 0 | AK45: 0 | AL45: 0 | AM45: 0 | AN45: 36045151 | AO45: 0 | AP45: 0 | AQ45: 0 | AR45: =ROUND(F45+K45+L45+M45+U45+AC45+AH45+AN45+AO45+AP45+AQ45,5) -> 52722488 | AS45: =ROUND(SUM(AT45:AY45),5) -> 69567449 | AT45: 39867851 | AU45: 0 | AV45: 0 | AW45: 0 | AX45: 29699598 | AY45: 0 | AZ45: =ROUND(SUM(BA45:BI45),5) -> 8.452244e+08 | BA45: 6.6459356e+08 | BB45: 0 | BC45: 0 | BD45: 0 | BE45: 1.8063042e+08 | BF45: 0 | BG45: 0 | BH45: 0 | BI45: 424.77313 | BJ45: =ROUND(AS45+AZ45,5) -> 9.1479185e+08 | BK45: =ROUND(AR45-BJ45,5) -> -8.6206936e+08 | BL45: =BO44+SUMPRODUCT($D45,$BK45) -> -3.9043121e+08 | BM45: 0 | BN45: 0 | BO45: =IF(BO44+BK45+BN45>0,ROUND(BO44+BK45+BN45,5),0) -> 0 | BP45: =(1/((1+$C45/100)^($A45-0.5)))*(AS45+AZ45-AY45-BH45-F45-AC45-AH45) -> 4.1080295e+08 | BQ45: =$BP45*($A45-0.5) -> 1.6226717e+10
A46: 41 | B46: 2064 | C46: 2 | D46: =ROUND((1+C46/100)^-1*D45,5) -> 0.44402 | E46: 0 | F46: =ROUND(SUM(G46:J46),5) -> 1060736.7 | G46: 1060736.7 | H46: 0 | I46: 0 | J46: 0 | K46: 0 | L46: 0 | M46: =ROUND(SUM(N46:T46),5) -> 0 | N46: 0 | O46: 0 | P46: 0 | Q46: 0 | R46: 0 | S46: 0 | T46: 0 | U46: =ROUND(SUM(V46:AB46),5) -> 0 | V46: 0 | W46: 0 | X46: 0 | Y46: 0 | Z46: 0 | AA46: 0 | AB46: 0 | AC46: =ROUND(SUM(AD46:AG46),5) -> 13897772 | AD46: 13897772 | AE46: 0 | AF46: 0 | AG46: 0 | AH46: =ROUND(SUM(AI46:AM46),5) -> 0 | AI46: 0 | AJ46: 0 | AK46: 0 | AL46: 0 | AM46: 0 | AN46: 33384638 | AO46: 0 | AP46: 0 | AQ46: 0 | AR46: =ROUND(F46+K46+L46+M46+U46+AC46+AH46+AN46+AO46+AP46+AQ46,5) -> 48343146 | AS46: =ROUND(SUM(AT46:AY46),5) -> 56381412 | AT46: 30553479 | AU46: 0 | AV46: 0 | AW46: 0 | AX46: 25827933 | AY46: 0 | AZ46: =ROUND(SUM(BA46:BI46),5) -> 7.9208878e+08 | BA46: 6.1774644e+08 | BB46: 0 | BC46: 0 | BD46: 0 | BE46: 1.7434234e+08 | BF46: 0 | BG46: 0 | BH46: 0 | BI46: 0 | BJ46: =ROUND(AS46+AZ46,5) -> 8.4847019e+08 | BK46: =ROUND(AR46-BJ46,5) -> -8.0012705e+08 | BL46: =BO45+SUMPRODUCT($D46,$BK46) -> -3.5527241e+08 | BM46: 0 | BN46: 0 | BO46: =IF(BO45+BK46+BN46>0,ROUND(BO45+BK46+BN46,5),0) -> 0 | BP46: =(1/((1+$C46/100)^($A46-0.5)))*(AS46+AZ46-AY46-BH46-F46-AC46-AH46) -> 3.7377025e+08 | BQ46: =$BP46*($A46-0.5) -> 1.5137695e+10
A47: 42 | B47: 2065 | C47: 2 | D47: =ROUND((1+C47/100)^-1*D46,5) -> 0.43531 | E47: 0 | F47: =ROUND(SUM(G47:J47),5) -> 878185.33 | G47: 878185.33 | H47: 0 | I47: 0 | J47: 0 | K47: 0 | L47: 0 | M47: =ROUND(SUM(N47:T47),5) -> 0 | N47: 0 | O47: 0 | P47: 0 | Q47: 0 | R47: 0 | S47: 0 | T47: 0 | U47: =ROUND(SUM(V47:AB47),5) -> 0 | V47: 0 | W47: 0 | X47: 0 | Y47: 0 | Z47: 0 | AA47: 0 | AB47: 0 | AC47: =ROUND(SUM(AD47:AG47),5) -> 12493998 | AD47: 12493998 | AE47: 0 | AF47: 0 | AG47: 0 | AH47: =ROUND(SUM(AI47:AM47),5) -> 0 | AI47: 0 | AJ47: 0 | AK47: 0 | AL47: 0 | AM47: 0 | AN47: 30772463 | AO47: 0 | AP47: 0 | AQ47: 0 | AR47: =ROUND(F47+K47+L47+M47+U47+AC47+AH47+AN47+AO47+AP47+AQ47,5) -> 44144647 | AS47: =ROUND(SUM(AT47:AY47),5) -> 45482296 | AT47: 23040300 | AU47: 0 | AV47: 0 | AW47: 0 | AX47: 22441996 | AY47: 0 | AZ47: =ROUND(SUM(BA47:BI47),5) -> 7.395169e+08 | BA47: 5.7195931e+08 | BB47: 0 | BC47: 0 | BD47: 0 | BE47: 1.6755759e+08 | BF47: 0 | BG47: 0 | BH47: 0 | BI47: 0 | BJ47: =ROUND(AS47+AZ47,5) -> 7.849992e+08 | BK47: =ROUND(AR47-BJ47,5) -> -7.4085455e+08 | BL47: =BO46+SUMPRODUCT($D47,$BK47) -> -3.225014e+08 | BM47: 0 | BN47: 0 | BO47: =IF(BO46+BK47+BN47>0,ROUND(BO46+BK47+BN47,5),0) -> 0 | BP47: =(1/((1+$C47/100)^($A47-0.5)))*(AS47+AZ47-AY47-BH47-F47-AC47-AH47) -> 3.3923472e+08 | BQ47: =$BP47*($A47-0.5) -> 1.4078241e+10
A48: 43 | B48: 2066 | C48: 2 | D48: =ROUND((1+C48/100)^-1*D47,5) -> 0.42677 | E48: 0 | F48: =ROUND(SUM(G48:J48),5) -> 727792.19 | G48: 727792.19 | H48: 0 | I48: 0 | J48: 0 | K48: 0 | L48: 0 | M48: =ROUND(SUM(N48:T48),5) -> 0 | N48: 0 | O48: 0 | P48: 0 | Q48: 0 | R48: 0 | S48: 0 | T48: 0 | U48: =ROUND(SUM(V48:AB48),5) -> 0 | V48: 0 | W48: 0 | X48: 0 | Y48: 0 | Z48: 0 | AA48: 0 | AB48: 0 | AC48: =ROUND(SUM(AD48:AG48),5) -> 11171778 | AD48: 11171778 | AE48: 0 | AF48: 0 | AG48: 0 | AH48: =ROUND(SUM(AI48:AM48),5) -> 0 | AI48: 0 | AJ48: 0 | AK48: 0 | AL48: 0 | AM48: 0 | AN48: 28221511 | AO48: 0 | AP48: 0 | AQ48: 0 | AR48: =ROUND(F48+K48+L48+M48+U48+AC48+AH48+AN48+AO48+AP48+AQ48,5) -> 40121081 | AS48: =ROUND(SUM(AT48:AY48),5) -> 36571943 | AT48: 17081928 | AU48: 0 | AV48: 0 | AW48: 0 | AX48: 19490014 | AY48: 0 | AZ48: =ROUND(SUM(BA48:BI48),5) -> 6.8775146e+08 | BA48: 5.2741696e+08 | BB48: 0 | BC48: 0 | BD48: 0 | BE48: 1.603345e+08 | BF48: 0 | BG48: 0 | BH48: 0 | BI48: 0 | BJ48: =ROUND(AS48+AZ48,5) -> 7.243234e+08 | BK48: =ROUND(AR48-BJ48,5) -> -6.8420232e+08 | BL48: =BO47+SUMPRODUCT($D48,$BK48) -> -2.9199702e+08 | BM48: 0 | BN48: 0 | BO48: =IF(BO47+BK48+BN48>0,ROUND(BO47+BK48+BN48,5),0) -> 0 | BP48: =(1/((1+$C48/100)^($A48-0.5)))*(AS48+AZ48-AY48-BH48-F48-AC48-AH48) -> 3.0706558e+08 | BQ48: =$BP48*($A48-0.5) -> 1.3050287e+10
A49: 44 | B49: 2067 | C49: 2 | D49: =ROUND((1+C49/100)^-1*D48,5) -> 0.4184 | E49: 0 | F49: =ROUND(SUM(G49:J49),5) -> 604406.44 | G49: 604406.44 | H49: 0 | I49: 0 | J49: 0 | K49: 0 | L49: 0 | M49: =ROUND(SUM(N49:T49),5) -> 0 | N49: 0 | O49: 0 | P49: 0 | Q49: 0 | R49: 0 | S49: 0 | T49: 0 | U49: =ROUND(SUM(V49:AB49),5) -> 0 | V49: 0 | W49: 0 | X49: 0 | Y49: 0 | Z49: 0 | AA49: 0 | AB49: 0 | AC49: =ROUND(SUM(AD49:AG49),5) -> 9933730.5 | AD49: 9933730.5 | AE49: 0 | AF49: 0 | AG49: 0 | AH49: =ROUND(SUM(AI49:AM49),5) -> 0 | AI49: 0 | AJ49: 0 | AK49: 0 | AL49: 0 | AM49: 0 | AN49: 25744870 | AO49: 0 | AP49: 0 | AQ49: 0 | AR49: =ROUND(F49+K49+L49+M49+U49+AC49+AH49+AN49+AO49+AP49+AQ49,5) -> 36283007 | AS49: =ROUND(SUM(AT49:AY49),5) -> 29360450 | AT49: 12440177 | AU49: 0 | AV49: 0 | AW49: 0 | AX49: 16920273 | AY49: 0 | AZ49: =ROUND(SUM(BA49:BI49),5) -> 6.3698114e+08 | BA49: 4.8424816e+08 | BB49: 0 | BC49: 0 | BD49: 0 | BE49: 1.5273298e+08 | BF49: 0 | BG49: 0 | BH49: 0 | BI49: 0 | BJ49: =ROUND(AS49+AZ49,5) -> 6.6634159e+08 | BK49: =ROUND(AR49-BJ49,5) -> -6.3005859e+08 | BL49: =BO48+SUMPRODUCT($D49,$BK49) -> -2.6361651e+08 | BM49: 0 | BN49: 0 | BO49: =IF(BO48+BK49+BN49>0,ROUND(BO48+BK49+BN49,5),0) -> 0 | BP49: =(1/((1+$C49/100)^($A49-0.5)))*(AS49+AZ49-AY49-BH49-F49-AC49-AH49) -> 2.7711895e+08 | BQ49: =$BP49*($A49-0.5) -> 1.2054674e+10
A50: 45 | B50: 2068 | C50: 2 | D50: =ROUND((1+C50/100)^-1*D49,5) -> 0.4102 | E50: 0 | F50: =ROUND(SUM(G50:J50),5) -> 503463.88 | G50: 503463.88 | H50: 0 | I50: 0 | J50: 0 | K50: 0 | L50: 0 | M50: =ROUND(SUM(N50:T50),5) -> 0 | N50: 0 | O50: 0 | P50: 0 | Q50: 0 | R50: 0 | S50: 0 | T50: 0 | U50: =ROUND(SUM(V50:AB50),5) -> 0 | V50: 0 | W50: 0 | X50: 0 | Y50: 0 | Z50: 0 | AA50: 0 | AB50: 0 | AC50: =ROUND(SUM(AD50:AG50),5) -> 8781911.2 | AD50: 8781911.2 | AE50: 0 | AF50: 0 | AG50: 0 | AH50: =ROUND(SUM(AI50:AM50),5) -> 0 | AI50: 0 | AJ50: 0 | AK50: 0 | AL50: 0 | AM50: 0 | AN50: 23353863 | AO50: 0 | AP50: 0 | AQ50: 0 | AR50: =ROUND(F50+K50+L50+M50+U50+AC50+AH50+AN50+AO50+AP50+AQ50,5) -> 32639238 | AS50: =ROUND(SUM(AT50:AY50),5) -> 23577585 | AT50: 8892125.9 | AU50: 0 | AV50: 0 | AW50: 0 | AX50: 14685459 | AY50: 0 | AZ50: =ROUND(SUM(BA50:BI50),5) -> 5.8738577e+08 | BA50: 4.4258048e+08 | BB50: 0 | BC50: 0 | BD50: 0 | BE50: 1.4480529e+08 | BF50: 0 | BG50: 0 | BH50: 0 | BI50: 0 | BJ50: =ROUND(AS50+AZ50,5) -> 6.1096336e+08 | BK50: =ROUND(AR50-BJ50,5) -> -5.7832412e+08 | BL50: =BO49+SUMPRODUCT($D50,$BK50) -> -2.3722855e+08 | BM50: 0 | BN50: 0 | BO50: =IF(BO49+BK50+BN50>0,ROUND(BO49+BK50+BN50,5),0) -> 0 | BP50: =(1/((1+$C50/100)^($A50-0.5)))*(AS50+AZ50-AY50-BH50-F50-AC50-AH50) -> 2.4926223e+08 | BQ50: =$BP50*($A50-0.5) -> 1.1092169e+10
A51: 46 | B51: 2069 | C51: 2 | D51: =ROUND((1+C51/100)^-1*D50,5) -> 0.40216 | E51: 0 | F51: =ROUND(SUM(G51:J51),5) -> 420871.99 | G51: 420871.99 | H51: 0 | I51: 0 | J51: 0 | K51: 0 | L51: 0 | M51: =ROUND(SUM(N51:T51),5) -> 0 | N51: 0 | O51: 0 | P51: 0 | Q51: 0 | R51: 0 | S51: 0 | T51: 0 | U51: =ROUND(SUM(V51:AB51),5) -> 0 | V51: 0 | W51: 0 | X51: 0 | Y51: 0 | Z51: 0 | AA51: 0 | AB51: 0 | AC51: =ROUND(SUM(AD51:AG51),5) -> 7717424.5 | AD51: 7717424.5 | AE51: 0 | AF51: 0 | AG51: 0 | AH51: =ROUND(SUM(AI51:AM51),5) -> 0 | AI51: 0 | AJ51: 0 | AK51: 0 | AL51: 0 | AM51: 0 | AN51: 21059376 | AO51: 0 | AP51: 0 | AQ51: 0 | AR51: =ROUND(F51+K51+L51+M51+U51+AC51+AH51+AN51+AO51+AP51+AQ51,5) -> 29197673 | AS51: =ROUND(SUM(AT51:AY51),5) -> 18973797 | AT51: 6233905.3 | AU51: 0 | AV51: 0 | AW51: 0 | AX51: 12739891 | AY51: 0 | AZ51: =ROUND(SUM(BA51:BI51),5) -> 5.39141e+08 | BA51: 4.025366e+08 | BB51: 0 | BC51: 0 | BD51: 0 | BE51: 1.366044e+08 | BF51: 0 | BG51: 0 | BH51: 0 | BI51: 0 | BJ51: =ROUND(AS51+AZ51,5) -> 5.581148e+08 | BK51: =ROUND(AR51-BJ51,5) -> -5.2891712e+08 | BL51: =BO50+SUMPRODUCT($D51,$BK51) -> -2.1270931e+08 | BM51: 0 | BN51: 0 | BO51: =IF(BO50+BK51+BN51>0,ROUND(BO50+BK51+BN51,5),0) -> 0 | BP51: =(1/((1+$C51/100)^($A51-0.5)))*(AS51+AZ51-AY51-BH51-F51-AC51-AH51) -> 2.233759e+08 | BQ51: =$BP51*($A51-0.5) -> 1.0163604e+10
A52: 47 | B52: 2070 | C52: 2 | D52: =ROUND((1+C52/100)^-1*D51,5) -> 0.39427 | E52: 0 | F52: =ROUND(SUM(G52:J52),5) -> 353100.9 | G52: 353100.9 | H52: 0 | I52: 0 | J52: 0 | K52: 0 | L52: 0 | M52: =ROUND(SUM(N52:T52),5) -> 0 | N52: 0 | O52: 0 | P52: 0 | Q52: 0 | R52: 0 | S52: 0 | T52: 0 | U52: =ROUND(SUM(V52:AB52),5) -> 0 | V52: 0 | W52: 0 | X52: 0 | Y52: 0 | Z52: 0 | AA52: 0 | AB52: 0 | AC52: =ROUND(SUM(AD52:AG52),5) -> 6739869.1 | AD52: 6739869.1 | AE52: 0 | AF52: 0 | AG52: 0 | AH52: =ROUND(SUM(AI52:AM52),5) -> 0 | AI52: 0 | AJ52: 0 | AK52: 0 | AL52: 0 | AM52: 0 | AN52: 18871974 | AO52: 0 | AP52: 0 | AQ52: 0 | AR52: =ROUND(F52+K52+L52+M52+U52+AC52+AH52+AN52+AO52+AP52+AQ52,5) -> 25964944 | AS52: =ROUND(SUM(AT52:AY52),5) -> 15328309 | AT52: 4284208.3 | AU52: 0 | AV52: 0 | AW52: 0 | AX52: 11044101 | AY52: 0 | AZ52: =ROUND(SUM(BA52:BI52),5) -> 4.9241511e+08 | BA52: 3.6422706e+08 | BB52: 0 | BC52: 0 | BD52: 0 | BE52: 1.2818805e+08 | BF52: 0 | BG52: 0 | BH52: 0 | BI52: 0 | BJ52: =ROUND(AS52+AZ52,5) -> 5.0774342e+08 | BK52: =ROUND(AR52-BJ52,5) -> -4.8177848e+08 | BL52: =BO51+SUMPRODUCT($D52,$BK52) -> -1.899508e+08 | BM52: 0 | BN52: 0 | BO52: =IF(BO51+BK52+BN52>0,ROUND(BO51+BK52+BN52,5),0) -> 0 | BP52: =(1/((1+$C52/100)^($A52-0.5)))*(AS52+AZ52-AY52-BH52-F52-AC52-AH52) -> 1.9935477e+08 | BQ52: =$BP52*($A52-0.5) -> 9.2699967e+09
A53: 48 | B53: 2071 | C53: 2 | D53: =ROUND((1+C53/100)^-1*D52,5) -> 0.38654 | E53: 0 | F53: =ROUND(SUM(G53:J53),5) -> 297315.51 | G53: 297315.51 | H53: 0 | I53: 0 | J53: 0 | K53: 0 | L53: 0 | M53: =ROUND(SUM(N53:T53),5) -> 0 | N53: 0 | O53: 0 | P53: 0 | Q53: 0 | R53: 0 | S53: 0 | T53: 0 | U53: =ROUND(SUM(V53:AB53),5) -> 0 | V53: 0 | W53: 0 | X53: 0 | Y53: 0 | Z53: 0 | AA53: 0 | AB53: 0 | AC53: =ROUND(SUM(AD53:AG53),5) -> 5847278.6 | AD53: 5847278.6 | AE53: 0 | AF53: 0 | AG53: 0 | AH53: =ROUND(SUM(AI53:AM53),5) -> 0 | AI53: 0 | AJ53: 0 | AK53: 0 | AL53: 0 | AM53: 0 | AN53: 16799259 | AO53: 0 | AP53: 0 | AQ53: 0 | AR53: =ROUND(F53+K53+L53+M53+U53+AC53+AH53+AN53+AO53+AP53+AQ53,5) -> 22943853 | AS53: =ROUND(SUM(AT53:AY53),5) -> 12450260 | AT53: 2885705.1 | AU53: 0 | AV53: 0 | AW53: 0 | AX53: 9564554.9 | AY53: 0 | AZ53: =ROUND(SUM(BA53:BI53),5) -> 4.4735122e+08 | BA53: 3.2773972e+08 | BB53: 0 | BC53: 0 | BD53: 0 | BE53: 1.196115e+08 | BF53: 0 | BG53: 0 | BH53: 0 | BI53: 0 | BJ53: =ROUND(AS53+AZ53,5) -> 4.5980148e+08 | BK53: =ROUND(AR53-BJ53,5) -> -4.3685763e+08 | BL53: =BO52+SUMPRODUCT($D53,$BK53) -> -1.6886295e+08 | BM53: 0 | BN53: 0 | BO53: =IF(BO52+BK53+BN53>0,ROUND(BO52+BK53+BN53,5),0) -> 0 | BP53: =(1/((1+$C53/100)^($A53-0.5)))*(AS53+AZ53-AY53-BH53-F53-AC53-AH53) -> 1.7710032e+08 | BQ53: =$BP53*($A53-0.5) -> 8.4122653e+09
... A155: 150 | B155: 2173 | C155: 0 | D155: =ROUND((1+C155/100)^-1*D154,5) -> 0.22647 | E155: 0 | F155: =ROUND(SUM(G155:J155),5) -> 0 | G155: 0 | H155: 0 | I155: 0 | J155: 0 | K155: 0 | L155: 0 | M155: =ROUND(SUM(N155:T155),5) -> 0 | N155: 0 | O155: 0 | P155: 0 | Q155: 0 | R155: 0 | S155: 0 | T155: 0 | U155: =ROUND(SUM(V155:AB155),5) -> 0 | V155: 0 | W155: 0 | X155: 0 | Y155: 0 | Z155: 0 | AA155: 0 | AB155: 0 | AC155: =ROUND(SUM(AD155:AG155),5) -> 0 | AD155: 0 | AE155: 0 | AF155: 0 | AG155: 0 | AH155: =ROUND(SUM(AI155:AM155),5) -> 0 | AI155: 0 | AJ155: 0 | AK155: 0 | AL155: 0 | AM155: 0 | AN155: 0 | AO155: 0 | AP155: 0 | AQ155: 0 | AR155: =ROUND(F155+K155+L155+M155+U155+AC155+AH155+AN155+AO155+AP155+AQ155,5) -> 0 | AS155: =ROUND(SUM(AT155:AY155),5) -> 0 | AT155: 0 | AU155: 0 | AV155: 0 | AW155: 0 | AX155: 0 | AY155: 0 | AZ155: =ROUND(SUM(BA155:BI155),5) -> 0 | BA155: 0 | BB155: 0 | BC155: 0 | BD155: 0 | BE155: 0 | BF155: 0 | BG155: 0 | BH155: 0 | BI155: 0 | BJ155: =ROUND(AS155+AZ155,5) -> 0 | BK155: =ROUND(AR155-BJ155,5) -> 0 | BL155: =BO154+SUMPRODUCT($D155,$BK155) -> 0 | BM155: 0 | BN155: 0 | BO155: =IF(BO154+BK155+BN155>0,ROUND(BO154+BK155+BN155,5),0) -> 0 | BP155: =(1/((1+$C155/100)^($A155-0.5)))*(AS155+AZ155-AY155-BH155-F155-AC155-AH155) -> 0 | BQ155: =$BP155*($A155-0.5) -> 0
A156: Totais de Controle: | E156: =ROUND(SUM(E6:E155),2) -> 2.2194257e+10 | F156: =ROUND(SUM(F6:F155),2) -> 8.9084154e+08 | G156: =ROUND(SUM(G6:G155),2) -> 8.9084154e+08 | H156: =ROUND(SUM(H6:H155),2) -> 0 | I156: =ROUND(SUM(I6:I155),2) -> 0 | J156: =ROUND(SUM(J6:J155),2) -> 0 | K156: =ROUND(SUM(K6:K155),2) -> 0 | L156: =ROUND(SUM(L6:L155),2) -> 0 | ... BK156: =ROUND(SUM(BK6:BK155),2) -> -7.8958295e+10 | BL156: DÉFICIT ATUARIAL | BP156: =SUM(BP6:BP155) -> 6.3362531e+10 | BQ156: =SUM(BQ6:BQ155) -> 1.0492929e+12
A157: Totais de Controle a Valor Atual: | E157: =ROUND(SUMPRODUCT($D$6:$D$155,E6:E155),2) -> 1.841945e+10 | F157: =ROUND(SUM(G157:J157),2) -> 7.10368e+08 | G157: =ROUND(SUMPRODUCT($D$6:$D$155,G6:G155),2) -> 7.10368e+08 | H157: =ROUND(SUMPRODUCT($D$6:$D$155,H6:H155),2) -> 0 | I157: =ROUND(SUMPRODUCT($D$6:$D$155,I6:I155),2) -> 0 | J157: =ROUND(SUMPRODUCT($D$6:$D$155,J6:J155),2) -> 0 | K157: =ROUND(SUMPRODUCT($D$6:$D$155,K6:K155),2) -> 0 | L157: =ROUND(SUMPRODUCT($D$6:$D$155,L6:L155),2) -> 0 | M157: =ROUND(SUM(N157:T157),2) -> 5.157446e+09 | N157: =ROUND(SUMPRODUCT($D$6:$D$155,N6:N155),2) -> 5.157446e+09 | O157: =ROUND(SUMPRODUCT($D$6:$D$155,O6:O155),2) -> 0 | P157: =ROUND(SUMPRODUCT($D$6:$D$155,P6:P155),2) -> 0 | Q157: =ROUND(SUMPRODUCT($D$6:$D$155,Q6:Q155),2) -> 0 | R157: =ROUND(SUMPRODUCT($D$6:$D$155,R6:R155),2) -> 0 | S157: =ROUND(SUMPRODUCT($D$6:$D$155,S6:S155),2) -> 0 | T157: =ROUND(SUMPRODUCT($D$6:$D$155,T6:T155),2) -> 0 | U157: =ROUND(SUM(V157:AB157),2) -> 2.578723e+09 | V157: =ROUND(SUMPRODUCT($D$6:$D$155,V6:V155),2) -> 2.578723e+09 | W157: =ROUND(SUMPRODUCT($D$6:$D$155,W6:W155),2) -> 0 | X157: =ROUND(SUMPRODUCT($D$6:$D$155,X6:X155),2) -> 0 | Y157: =ROUND(SUMPRODUCT($D$6:$D$155,Y6:Y155),2) -> 0 | Z157: =ROUND(SUMPRODUCT($D$6:$D$155,Z6:Z155),2) -> 0 | AA157: =ROUND(SUMPRODUCT($D$6:$D$155,AA6:AA155),2) -> 0 | AB157: =ROUND(SUMPRODUCT($D$6:$D$155,AB6:AB155),2) -> 0 | AC157: =ROUND(SUMPRODUCT($D$6:$D$155,AC6:AC155),2) -> 9.5477028e+08 | ... AQ157: =ROUND(SUMPRODUCT($D$6:$D$155,AQ6:AQ155),2) -> 0 | AR157: =ROUND(F155+K155+L155+M155+U155+AC155+AH155+AN155+AO155+AP155+AQ155,2) -> 0 | AS157: =ROUND(SUM(AT157:AY157),2) -> 3.2991639e+10 | AT157: =ROUND(SUMPRODUCT($D$6:$D$155,AT6:AT155),2) -> 2.6555042e+10 | AU157: =ROUND(SUMPRODUCT($D$6:$D$155,AU6:AU155),2) -> 0 | AV157: =ROUND(SUMPRODUCT($D$6:$D$155,AV6:AV155),2) -> 0 | AW157: =ROUND(SUMPRODUCT($D$6:$D$155,AW6:AW155),2) -> 0 | AX157: =ROUND(SUMPRODUCT($D$6:$D$155,AX6:AX155),2) -> 6.4365975e+09 | AY157: =ROUND(SUMPRODUCT($D$6:$D$155,AY6:AY155),2) -> 0 | AZ157: =ROUND(SUM(BA157:BI157),2) -> 3.1411194e+10 | BA157: =ROUND(SUMPRODUCT($D$6:$D$155,BA6:BA155),2) -> 2.7351437e+10 | BB157: =ROUND(SUMPRODUCT($D$6:$D$155,BB6:BB155),2) -> 0 | BC157: =ROUND(SUMPRODUCT($D$6:$D$155,BC6:BC155),2) -> 0 | BD157: =ROUND(SUMPRODUCT($D$6:$D$155,BD6:BD155),2) -> 0 | BE157: =ROUND(SUMPRODUCT($D$6:$D$155,BE6:BE155),2) -> 3.8755615e+09 | BF157: =ROUND(SUMPRODUCT($D$6:$D$155,BF6:BF155),2) -> 0 | BG157: =ROUND(SUMPRODUCT($D$6:$D$155,BG6:BG155),2) -> 0 | BH157: =ROUND(SUMPRODUCT($D$6:$D$155,BH6:BH155),2) -> 0 | ... BJ157: =ROUND(SUMPRODUCT($D$6:$D$155,BJ6:BJ155),2) -> 6.4402833e+10 | BK157: =ROUND(AR157-BJ157,2) -> -6.4402833e+10 | BL157: -5.3261474e+10

Sheet Anexo 1 - Despesa com Pessoal
A1: DESPESA COM PESSOAL | F1: DESPESAS EXECUTADAS (Últimos 12 Meses)
A3: DESPESA BRUTA COM PESSOAL (I) | F3: 7.4501225e+09
A4: Pessoal Ativo | F4: 4.7981501e+09
A5: Pessoal Inativo e Pensionistas | F5: 2.6519724e+09
A6: Outras despesas de pessoal decorrentes de contratos de terceirização (§ 1° do art. 18 da LRF) | F6: 0
A7: DESPESAS NÃO COMPUTADAS (§ 1° do art. 19 da LRF) (II) | F7: 1.5041122e+09
A8: Idenizações por Demissão e Incentivos à Demissão Voluntária | F8: 56713546
A9: Decorrentes de Decisão Judicial de período anterior ou da apuração/Instrução Normativa TCE/PR 56/2011 -IRRF | F9: 66102609
A10: Despesas de Exercícios Anteriores de período anterior ao da apuração | F10: 9318516.8
A11: Inativos e Pensionistas com Recursos Vinculados | F11: 1.3719775e+09
A12: DESPESA LÍQUIDA COM PESSOAL (III) = (I-II) | F12: 5.9460103e+09
A13: DESPESA TOTAL COM PESSOAL - DTP (IV) = (III a = III b) | F13: 5.9578233e+09
A15: APURAÇÃO DO CUMPRIMENTO DO LIMITE GERAL | F15: VALOR
A16: RECEITA CORRENTE LÍQUIDA - RCL (V) | F16: 1.1296095e+10
A17: % do DESPESA TOTAL COM PESSOAL - DTP sobre a RCL (VI) = (IV/V)*100 | F17: 0.5288
A18: LIMITE MÁXIMO (incisos I, II e III, art. 20 da LRF) - <%> | F18: 0.6
A19: LIMITE PRUDENCIAL (parágrafo único, art. 22 da LRF) - <%> | F19: 0.57
A20: LIMITE DE ALERTA (incisos II do § 1° do art. 59 da LRF) - <%> | F20: 0.54

Sheet 01 - Histórico
A1: 01 - Crescimento Médio da Receita Corrente Líquida (RCL) e Despesa com Pessoal
A3: Ente:
A4: Ano base da Avaliação | C4: 2024
A5: Data Base: | C5: 45291
A6: Data Cálculo: | C6: 45492
B8: Calculado | C8: Informado
A9: =CONCATENATE("Contribuições do Ente + Parcelamentos (Ano: ",A28,")") -> Contribuições do Ente + Parcelamentos (Ano: 2023) | C9: 3.8730157e+08
A10: =CONCATENATE("Despesas do RPPS- Benefícios e Administrativas (Ano: ",A28,")") -> Despesas do RPPS- Benefícios e Administrativas (Ano: 2023) | C10: 9.2961693e+08
A11: Despesa com Pessoal (exceto RPPS) | B11: =C28-C9-IF(C10-C9>0,C10-C9,0) -> 5.7505262e+09
A12: Dívida Consolidada Líquida – DCL | C12: 2.8846643e+09
A13: Resultado Atuarial | B13: ='Fluxo e Duração do Passivo'!BL157 -> -5.3261474e+10 | C13: ='Fluxo e Duração do Passivo'!AO157-B13 -> 5.3261474e+10
A14: =CONCATENATE("Variação Média - ",B17) -> Variação Média - RECEITA CORRENTE LÍQUIDA - RCL | B14: =AVERAGE(I18:I28) -> 0.026344948
A15: =CONCATENATE("Variação Média - ",C17) -> Variação Média - DESPESA TOTAL COM PESSOAL | B15: =AVERAGE(J18:J28) -> 0.021731695
A17: ANO | B17: RECEITA CORRENTE LÍQUIDA - RCL | C17: DESPESA TOTAL COM PESSOAL | D17: Inflação do Ano | F17: Inflação Acumulada | G17: =CONCATENATE(B17," (em base de ",A28,")") -> RECEITA CORRENTE LÍQUIDA - RCL (em base de 2023) | H17: =CONCATENATE(C17," (em base de ",A28,")") -> DESPESA TOTAL COM PESSOAL (em base de 2023) | I17: =CONCATENATE("Variação real da ",B17) -> Variação real da RECEITA CORRENTE LÍQUIDA - RCL | J17: =CONCATENATE("Variação real da ",C17) -> Variação real da DESPESA TOTAL COM PESSOAL
A18: 2013 | B18: 5.5242748e+09 | C18: 3.2515338e+09 | D18: 0.0591 | G18: =IFERROR((1+$F19)*B18,"") -> 9.8086374e+09 | H18: =IFERROR((1+$F19)*C18,"") -> 5.7732674e+09 | I18: =IFERROR(G18/G17-1,"") | J18: =IFERROR(H18/H17-1,"")
A19: 2014 | B19: 5.9824853e+09 | C19: 3.4674182e+09 | D19: 0.0641 | F19: =IF(D19="","",((1+F20)*(1+D19))-1) -> 0.77555203 | G19: =IFERROR((1+$F20)*B19,"") -> 9.9823457e+09 | H19: =IFERROR((1+$F20)*C19,"") -> 5.7857169e+09 | I19: =IFERROR(G19/G18-1,"") -> 0.017709729 | J19: =IFERROR(H19/H18-1,"") -> 0.0021564051
A20: 2015 | B20: 6.3533394e+09 | C20: 3.6983829e+09 | D20: 0.1067 | F20: =IF(D20="","",((1+F21)*(1+D20))-1) -> 0.66859509 | G20: =IFERROR((1+$F21)*B20,"") -> 9.5790647e+09 | H20: =IFERROR((1+$F21)*C20,"") -> 5.5761305e+09 | I20: =IFERROR(G20/G19-1,"") -> -0.040399422 | J20: =IFERROR(H20/H19-1,"") -> -0.03622481
A21: 2016 | B21: 6.7874959e+09 | C21: 3.8792279e+09 | D21: 0.0629 | F21: =IF(D21="","",((1+F22)*(1+D21))-1) -> 0.50772123 | G21: =IFERROR((1+$F22)*B21,"") -> 9.6280475e+09 | H21: =IFERROR((1+$F22)*C21,"") -> 5.502676e+09 | I21: =IFERROR(G21/G20-1,"") -> 0.0051135248 | J21: =IFERROR(H21/H20-1,"") -> -0.013173022
A22: 2017 | B22: 6.8850598e+09 | C22: 4.0400836e+09 | D22: 0.0295 | F22: =IF(D22="","",((1+F23)*(1+D22))-1) -> 0.41849773 | G22: =IFERROR((1+$F23)*B22,"") -> 9.4865874e+09 | H22: =IFERROR((1+$F23)*C22,"") -> 5.5666337e+09 | I22: =IFERROR(G22/G21-1,"") -> -0.014692499 | J22: =IFERROR(H22/H21-1,"") -> 0.011623022
A23: 2018 | B23: 7.3714851e+09 | C23: 4.3064343e+09 | D23: 0.0375 | F23: =IF(D23="","",((1+F24)*(1+D23))-1) -> 0.37785112 | G23: =IFERROR((1+$F24)*B23,"") -> 9.7896955e+09 | H23: =IFERROR((1+$F24)*C23,"") -> 5.7191569e+09 | I23: =IFERROR(G23/G22-1,"") -> 0.031951223 | J23: =IFERROR(H23/H22-1,"") -> 0.027399541
A24: 2019 | B24: 8053614115 | C24: 4.6537997e+09 | D24: 0.0431 | F24: =IF(D24="","",((1+F25)*(1+D24))-1) -> 0.32804927 | G24: =IFERROR((1+$F25)*B24,"") -> 1.0253663e+10 | H24: =IFERROR((1+$F25)*C24,"") -> 5.9251034e+09 | I24: =IFERROR(G24/G23-1,"") -> 0.047393507 | J24: =IFERROR(H24/H23-1,"") -> 0.036009936
A25: 2020 | B25: 8.7246062e+09 | C25: 4.9924584e+09 | D25: 0.0452 | F25: =IF(D25="","",((1+F26)*(1+D25))-1) -> 0.27317541 | G25: =IFERROR((1+$F26)*B25,"") -> 1.0627587e+10 | H25: =IFERROR((1+$F26)*C25,"") -> 6.0813962e+09 | I25: =IFERROR(G25/G24-1,"") -> 0.03646733 | J25: =IFERROR(H25/H24-1,"") -> 0.026378069
A26: 2021 | B26: 9.6744483e+09 | C26: 4.3070267e+09 | D26: 0.1006 | F26: =IF(D26="","",((1+F27)*(1+D26))-1) -> 0.21811654 | G26: =IFERROR((1+$F27)*B26,"") -> 1.0707437e+10 | H26: =IFERROR((1+$F27)*C26,"") -> 4.7669094e+09 | I26: =IFERROR(G26/G25-1,"") -> 0.0075134787 | J26: =IFERROR(H26/H25-1,"") -> -0.21614885
A27: 2022 | B27: 1.1296095e+10 | C27: 5.9578233e+09 | D27: 0.0579 | F27: =IF(D27="","",((1+F28)*(1+D27))-1) -> 0.10677498 | G27: =IFERROR((1+$F28)*B27,"") -> 1.1817975e+10 | H27: =IFERROR((1+$F28)*C27,"") -> 6.2330748e+09 | I27: =IFERROR(G27/G26-1,"") -> 0.10371647 | J27: =IFERROR(H27/H26-1,"") -> 0.30757147
A28: 2023 | B28: 1.2629588e+10 | C28: 6.6801431e+09 | D28: 0.0462 | F28: =IF(D28="","",((1+D29)*(1+D28))-1) -> 0.0462 | G28: =IFERROR((1+$D29)*B28,"") -> 1.2629588e+10 | H28: =IFERROR((1+$D29)*C28,"") -> 6.6801431e+09 | I28: =IFERROR(G28/G27-1,"") -> 0.068676139 | J28: =IFERROR(H28/H27-1,"") -> 0.071725176

Sheet 02 - Projeções
A1: 02 - Incremento do Custeio Especial proposto na RCL projetada do Ente
A3: Ente:
A5: Impacto do deficit atuarial após a inclusão no Quociente do Limite de Endividamento | G5: =('01 - Histórico'!C12+'01 - Histórico'!C13)/'01 - Histórico'!B28 -> 4.4456034
A7: ANO | B7: No. | C7: ='[1]01- Histórico'!B17 -> RECEITA CORRENTE LÍQUIDA - RCL | D7: Despesa com Pessoal (exceto RPPS) | E7: Pessoal Ativo Efetivo (Código 109001) | F7: Aposentadorias e Pensões (Códigos 210000 e 220000) | G7: Contribuição Patronal (Código 121000 - Todos os Planos) | H7: Contribuição Suplementar (Código 130101 - Todos os Planos) | I7: Parcelamentos (Código 130201 - Todos os Planos) | J7: Insuficiência ou Excedente Financeiro (Código 250001 - Todos os Planos) | K7: Despesa com Pessoal - LRF | L7: Evolução dos Recursos Garantidores (Código 290001)
A8: 2024 | B8: 0 | C8: 1.2629588e+10 | D8: 5.494301e+09 | E8: ='Fluxo e Duração do Passivo'!E6 -> 1.4794237e+09 | F8: ='Fluxo e Duração do Passivo'!AS6+'Fluxo e Duração do Passivo'!AZ6 -> 2.6054309e+09 | G8: ='Fluxo e Duração do Passivo'!M6 -> 4.1423864e+08 | H8: ='Fluxo e Duração do Passivo'!AO6 -> 0 | I8: ='Fluxo e Duração do Passivo'!AP6 -> 0 | J8: ='Fluxo e Duração do Passivo'!BK6 -> -1.8955883e+09 | K8: =D8+G8+I8+IF(J8<0,J8*-1,0) -> 7.8041279e+09 | L8: ='Fluxo e Duração do Passivo'!BO6 -> 0
A9: =A8+1 -> 2025 | B9: =B8+1 -> 1 | C9: =C8*(1+'01 - Histórico'!$B$14) -> 1.2962314e+10 | D9: =D8*(1+'01 - Histórico'!$B$15) -> 5.6137015e+09 | E9: ='Fluxo e Duração do Passivo'!E7 -> 1.4434681e+09 | F9: ='Fluxo e Duração do Passivo'!AS7+'Fluxo e Duração do Passivo'!AZ7 -> 2.6237499e+09 | G9: ='Fluxo e Duração do Passivo'!M7 -> 4.0417108e+08 | H9: ='Fluxo e Duração do Passivo'!AO7 -> 0 | I9: ='Fluxo e Duração do Passivo'!AP7 -> 0 | J9: ='Fluxo e Duração do Passivo'!BK7 -> -1.9238178e+09 | K9: =D9+G9+I9+IF(J9<0,J9*-1,0) -> 7.9416904e+09 | L9: ='Fluxo e Duração do Passivo'!BO7 -> 0
A10: =A9+1 -> 2026 | B10: =B9+1 -> 2 | C10: =C9*(1+'01 - Histórico'!$B$14) -> 1.3303805e+10 | D10: =D9*(1+'01 - Histórico'!$B$15) -> 5.7356968e+09 | E10: ='Fluxo e Duração do Passivo'!E8 -> 1.4074772e+09 | F10: ='Fluxo e Duração do Passivo'!AS8+'Fluxo e Duração do Passivo'!AZ8 -> 2.6356383e+09 | G10: ='Fluxo e Duração do Passivo'!M8 -> 3.9409363e+08 | H10: ='Fluxo e Duração do Passivo'!AO8 -> 0 | I10: ='Fluxo e Duração do Passivo'!AP8 -> 0 | J10: ='Fluxo e Duração do Passivo'!BK8 -> -1.9459421e+09 | K10: =D10+G10+I10+IF(J10<0,J10*-1,0) -> 8.0757325e+09 | L10: ='Fluxo e Duração do Passivo'!BO8 -> 0
A11: =A10+1 -> 2027 | B11: =B10+1 -> 3 | C11: =C10*(1+'01 - Histórico'!$B$14) -> 1.3654293e+10 | D11: =D10*(1+'01 - Histórico'!$B$15) -> 5.8603432e+09 | E11: ='Fluxo e Duração do Passivo'!E9 -> 1.3724676e+09 | F11: ='Fluxo e Duração do Passivo'!AS9+'Fluxo e Duração do Passivo'!AZ9 -> 2.642071e+09 | G11: ='Fluxo e Duração do Passivo'!M9 -> 3.8429092e+08 | H11: ='Fluxo e Duração do Passivo'!AO9 -> 0 | I11: ='Fluxo e Duração do Passivo'!AP9 -> 0 | J11: ='Fluxo e Duração do Passivo'!BK9 -> -1.962804e+09 | K11: =D11+G11+I11+IF(J11<0,J11*-1,0) -> 8.2074381e+09 | L11: ='Fluxo e Duração do Passivo'!BO9 -> 0
A12: =A11+1 -> 2028 | B12: =B11+1 -> 4 | C12: =C11*(1+'01 - Histórico'!$B$14) -> 1.4014015e+10 | D12: =D11*(1+'01 - Histórico'!$B$15) -> 5.9876984e+09 | E12: ='Fluxo e Duração do Passivo'!E10 -> 1.3453402e+09 | F12: ='Fluxo e Duração do Passivo'!AS10+'Fluxo e Duração do Passivo'!AZ10 -> 2.6382969e+09 | G12: ='Fluxo e Duração do Passivo'!M10 -> 3.7669525e+08 | H12: ='Fluxo e Duração do Passivo'!AO10 -> 0 | I12: ='Fluxo e Duração do Passivo'!AP10 -> 0 | J12: ='Fluxo e Duração do Passivo'!BK10 -> -1.9674359e+09 | K12: =D12+G12+I12+IF(J12<0,J12*-1,0) -> 8.3318295e+09 | L12: ='Fluxo e Duração do Passivo'!BO10 -> 0
A13: =A12+1 -> 2029 | B13: =B12+1 -> 5 | C13: =C12*(1+'01 - Histórico'!$B$14) -> 1.4383213e+10 | D13: =D12*(1+'01 - Histórico'!$B$15) -> 6.1178212e+09 | E13: ='Fluxo e Duração do Passivo'!E11 -> 1.2783569e+09 | F13: ='Fluxo e Duração do Passivo'!AS11+'Fluxo e Duração do Passivo'!AZ11 -> 2.6645227e+09 | G13: ='Fluxo e Duração do Passivo'!M11 -> 3.5793994e+08 | H13: ='Fluxo e Duração do Passivo'!AO11 -> 0 | I13: ='Fluxo e Duração do Passivo'!AP11 -> 0 | J13: ='Fluxo e Duração do Passivo'!BK11 -> -2.0131265e+09 | K13: =D13+G13+I13+IF(J13<0,J13*-1,0) -> 8.4888877e+09 | L13: ='Fluxo e Duração do Passivo'!BO11 -> 0
A14: =A13+1 -> 2030 | B14: =B13+1 -> 6 | C14: =C13*(1+'01 - Histórico'!$B$14) -> 1.4762138e+10 | D14: =D13*(1+'01 - Histórico'!$B$15) -> 6.2507718e+09 | E14: ='Fluxo e Duração do Passivo'!E12 -> 1.2288328e+09 | F14: ='Fluxo e Duração do Passivo'!AS12+'Fluxo e Duração do Passivo'!AZ12 -> 2.6669974e+09 | G14: ='Fluxo e Duração do Passivo'!M12 -> 3.4407318e+08 | H14: ='Fluxo e Duração do Passivo'!AO12 -> 0 | I14: ='Fluxo e Duração do Passivo'!AP12 -> 0 | J14: ='Fluxo e Duração do Passivo'!BK12 -> -2.0338928e+09 | K14: =D14+G14+I14+IF(J14<0,J14*-1,0) -> 8.6287378e+09 | L14: ='Fluxo e Duração do Passivo'!BO12 -> 0
A15: =A14+1 -> 2031 | B15: =B14+1 -> 7 | C15: =C14*(1+'01 - Histórico'!$B$14) -> 1.5151046e+10 | D15: =D14*(1+'01 - Histórico'!$B$15) -> 6.3866117e+09 | E15: ='Fluxo e Duração do Passivo'!E13 -> 1.2061579e+09 | F15: ='Fluxo e Duração do Passivo'!AS13+'Fluxo e Duração do Passivo'!AZ13 -> 2.6433237e+09 | G15: ='Fluxo e Duração do Passivo'!M13 -> 3.3772421e+08 | H15: ='Fluxo e Duração do Passivo'!AO13 -> 0 | I15: ='Fluxo e Duração do Passivo'!AP13 -> 0 | J15: ='Fluxo e Duração do Passivo'!BK13 -> -2.0184866e+09 | K15: =D15+G15+I15+IF(J15<0,J15*-1,0) -> 8.7428225e+09 | L15: ='Fluxo e Duração do Passivo'!BO13 -> 0
